BEGIN:VCALENDAR
VERSION:2.0
PRODID:-//Centrum Kultury Teatr w Grudziądzu - ECPv4.0.5//NONSGML v1.0//EN
CALSCALE:GREGORIAN
METHOD:PUBLISH
X-WR-CALNAME:Centrum Kultury Teatr w Grudziądzu
X-ORIGINAL-URL:http://teatr.grudziadz.pl
X-WR-CALDESC:Events for Centrum Kultury Teatr w Grudziądzu
BEGIN:VEVENT
DTSTART;TZID="Europe/Warsaw":20170317T193000
DTEND;TZID="Europe/Warsaw":20170317T193000
DTSTAMP:20260422T113811
CREATED:20161122T090641
LAST-MODIFIED:20170224T081826
UID:5358-1489779000-1489779000@teatr.grudziadz.pl
SUMMARY:Rhiannon - koncert muzyki irlandzkiej
DESCRIPTION:RHIANNON\n\nZ pasji\, z zapału\, z miłości do Irlandii i wszystkiego co zielone\, tworzą we Wrocławiu zespół czerpiący z całego dobrodziejstwa muzyki celtyckiej i szantowej. Działają od września 2013 roku\, kiedy to pierwszy raz spotkali się jeszcze w niepełnym składzie\, aby to zagrać pierwsze irlandzkie tradycyjne melodie. 13 marca 2016 roku w klubokawiarni „Mleczarnia” we Wrocławiu odbyła się premiera ich pierwszej płyty\, zatytułowanej „An Chead”\, czyli po prostu „pierwsza”.\n\nW skład zespołu wchodzą cztery osoby: Anita Janukiewicz (skrzypce)\, Ekaterina Pervesentseva (bodhran\, łyżki)\, Stanisław Marinczenko (bouzouki irlandzkie\,mandolina\, gitara\, harfa celtycka\, akordeon) Bartłomiej Ostaszewski (wokal\, gitara\, banjo tenorowe\,mandolina).\n            Ze względu na szczególny charakter wieczoru\, wszystkich gości Klubu Akcent  zachęcamy do zaakcentowania wieczoru irlandzkiego zielonymi akcentami w stroju. 
URL:http://teatr.grudziadz.pl/wydarzenie/rhiannon-dzien-sw-patryka/
LOCATION:ul. Wybickiego 38
CATEGORIES:Koncert
ATTACH;FMTTYPE=image/jpeg:http://teatr.grudziadz.pl/wp-content/uploads/2016/11/Rhiannon33-Medium-2.jpg
ORGANIZER;CN="CK%20Teatr%20w%20Grudzi%C4%85dzu":MAILTO:ewelina@teatr.grudziadz.pl
END:VEVENT
END:VCALENDAR