BEGIN:VCALENDAR
VERSION:2.0
PRODID:-//Centrum Kultury Teatr w Grudziądzu - ECPv4.0.5//NONSGML v1.0//EN
CALSCALE:GREGORIAN
METHOD:PUBLISH
X-WR-CALNAME:Centrum Kultury Teatr w Grudziądzu
X-ORIGINAL-URL:http://teatr.grudziadz.pl
X-WR-CALDESC:Events for Centrum Kultury Teatr w Grudziądzu
BEGIN:VEVENT
DTSTART;TZID="Europe/Warsaw":20170324T193000
DTEND;TZID="Europe/Warsaw":20170324T193000
DTSTAMP:20260422T101837
CREATED:20161122T091009
LAST-MODIFIED:20170224T140932
UID:5359-1490383800-1490383800@teatr.grudziadz.pl
SUMMARY:Koncert "Z rockiem przez młodość"
DESCRIPTION:VI edycja Z rockiem przez młodość zabrzmi w tonie muzyki filmowej. Podopieczni Macieja Gburczyka z Ogniska Pracy Pozaszkolnej zagrają i zaśpiewają wiele znanych przebojów pochodzących bądź wykorzystanych w filmach lub serialach. Na scenie zaprezentują się zespoły: Hope\, Out of Control\, Shiver oraz wokaliści: Marika Andrik\, Marta Kitłowska z zespołem\, Agata Misiak\, Kaja Gburczyk i inni. Jak zawsze w koncercie wezmą udział zaproszeni goście\,m.in. śpiewający uczniowie Gimnazjum nr 7 oraz Szkoły Podstawowej Grudziądz-Węgrowo.
URL:http://teatr.grudziadz.pl/wydarzenie/koncert-rockiem-mlodosc/
LOCATION:ul. Wybickiego 38
CATEGORIES:Koncert
ATTACH;FMTTYPE=image/jpeg:http://teatr.grudziadz.pl/wp-content/uploads/2016/11/z-rockiem-przez-młodość-2.jpg
ORGANIZER;CN="CK%20Teatr%20w%20Grudzi%C4%85dzu":MAILTO:ewelina@teatr.grudziadz.pl
END:VEVENT
END:VCALENDAR