BEGIN:VCALENDAR
VERSION:2.0
PRODID:-//Centrum Kultury Teatr w Grudziądzu - ECPv4.0.5//NONSGML v1.0//EN
CALSCALE:GREGORIAN
METHOD:PUBLISH
X-WR-CALNAME:Centrum Kultury Teatr w Grudziądzu
X-ORIGINAL-URL:http://teatr.grudziadz.pl
X-WR-CALDESC:Events for Centrum Kultury Teatr w Grudziądzu
BEGIN:VEVENT
DTSTART;TZID="Europe/Warsaw":20170402T120000
DTEND;TZID="Europe/Warsaw":20170402T120000
DTSTAMP:20260422T085405
CREATED:20170207T075648
LAST-MODIFIED:20170322T104431
UID:6568-1491134400-1491134400@teatr.grudziadz.pl
SUMMARY:Koncert Niedzielny: Jacek Kaczor – skrzypce  Witold Kawalec – fortepian
DESCRIPTION:Program koncertu:\n\nczęść 1\n\nF. M. Veracini – Sonata skrzypcowa h – moll\n\nPreludio\n\nAllemanda\n\nLargo\n\nRondo\nJ. Massenet – Medytacja z opery Thais\n\nczęść 2\n\nJ. Brahms – Scherzo c – moll\nC. Franck – Sonata A – dur na skrzypce i fortepian\n\nAllegretto ben moderato\n\nAllegro\n\nRecitativo – Fantasia: ben moderato\n\nAllegretto poco mosso\n\nJacek Kaczor – urodzony w 1974 roku w Inowrocławiu\, gdzie ukończył z wyróżnieniem Państwową Szkołę Muzyczną im. Juliusza Zarębskiego. Absolwent Akademii Muzycznej im. Feliksa Nowowiejskiego w Bydgoszczy w klasie skrzypiec prof. Stanisława Lewandowskiego. Uczestnik wielu kursów i konkursów skrzypcowych\, m.in.: Mistrzowskie Kursy Skrzypcowe w Żaganiu i Łańcucie\, laureat Ogólnopolskiego Konkursu  Muzyki Kameralnej we Wrocławiu.\n\nObecnie pracuje jako artysta muzyk w Orkiestrze Symfonicznej Filharmonii Pomorskiej im. Ignacego Jana Paderewskiego w Bydgoszczy; jest szefem i koncertmistrzem Orkiestry Symfonicznej „Pro Arte” w Inowrocławiu. Koncertował w kraju i za granicą prezentując dzieła muzyki solowej\, kameralnej i symfonicznej.\n\nWitold Kawalec – urodzony 21 sierpnia 1974 roku w Gdańsku. W 1998 r. ukończył studia w Akademii Muzycznej im. F. Nowowiejskiego w Bydgoszczy\, w klasie fortepianu prof. Jarosława Drzewieckiego\, z wynikiem bardzo dobrym\, uzyskując tytuł magistra sztuki. Będąc na pierwszym roku studiów znalazł się w gronie inicjatorów Studenckich Festiwali Pianistycznych FORTE-PIANO\, których był współorganizatorem oraz wielokrotnym wykonawcą. Swoje umiejętności poszerzał biorąc czynny udział w Międzynarodowych Mistrzowskich Kursach Pianistycznych w Dusznikach Zdroju\, gdzie pracował pod kierunkiem prof. Tatiany Szebanowej i prof. Włodzimierza Obidowicza\, oraz w kursach "Fryderyk Chopin in memoriam" w Słupsku gdzie pracował pod kierunkiem prof. Haliny Czerny-Stefańskiej i prof. Andrzeja Tatarskiego. W 1994 roku został laureatem Konkursu na Stypendia Artystyczne im. Fryderyka Chopina w Warszawie. Brał udział w znaczących konkursach pianistycznych:\n\nIV Konkursie Pianistycznym im. Franciszka Liszta we Wrocławiu\,  Międzynarodowym Konkursie Pianistycznym im. Ignacego Jana Paderewskiego w Bydgoszczy\, w VII Międzynarodowym Konkursie Chopinowskim w Darmstadt.\n\nW 2001 roku był jedynym polskim uczestnikiem XXXVI Międzynarodowego Konkursu Pianistycznego im. Franciszka Liszta w Budapeszcie.\n\nW 2004 r. ukończył Studia Podyplomowe w klasie fortepianu prof. Katarzyny Popowej-Zydroń.\n\nOd 1998 roku jest pracownikiem Państwowej Szkoły Muzycznej I i II stopnia\n\n\tJuliusza Zarębskiego w Inowrocławiu\, gdzie obecnie pełni funkcję kierownika sekcji instrumentów klawiszowych II stopnia. Od 2003 roku jest również zatrudniony na Wydziale Edukacji Muzycznej Uniwersytetu Kazimierza Wielkiego w Bydgoszczy\, gdzie obecnie pracuje na stanowisku adiunkta w Katedrze Instrumentalistyki i Wokalistyki\, a od roku akademickiego 2016/17 pełni również funkcję prodziekana. W 2011 roku uzyskał tytułu doktora sztuk muzycznych nadany przez Radę Wydziału Instrumentalnego Akademii Muzycznej w Gdańsku. Dokonuje prawykonań utworów kompozytorów współczesnych m. in. M. Kopczyńskiego\, R. Kwiatkowskiego\, P. Komorowskiego\, B. Riemera. Koncertował jako solista i kameralista w wielu miastach Polski\, Białorusi\, Niemiec i Norwegii. W 2013 roku został laureatem II miejsca International Master Competiton for Music Teachers w Warszawie. W marcu 2015 roku został laureatem I miejsca IX Międzynarodowego Konkursu Interpretacji Muzycznej w Przemyślu.\n\n\nWYSTAWA W RAMACH KONCERTU:\nDARIUSZ STELMACH (malarstwo)\nDariusz Stelmach - absolwent Państwowego Liceum Sztuk Plastycznych w Kielcach i Wydziału Sztuki Uniwersytetu Technologiczno-Humanistycznego w Radomiu (dyplom z malarstwa w pracowni prof. Andrzeja Gieragi). Uczestnik wystaw zbiorowych\, autor kilkudziesięciu wystaw indywidualnych. Uczestnik wielu plenerów malarskich w kraju i za granicą. Uprawia rysunek i malarstwo. Ulubiony temat - portret.\n\n \n    
URL:http://teatr.grudziadz.pl/wydarzenie/koncert-niedzielny-9/
LOCATION:Teatralna\, 1\, Grudziądz\, 86-300\, Polska
CATEGORIES:Koncert
ORGANIZER;CN="CK%20Teatr%20w%20Grudzi%C4%85dzu":MAILTO:ewelina@teatr.grudziadz.pl
END:VEVENT
BEGIN:VEVENT
DTSTART;TZID="Europe/Warsaw":20170402T190000
DTEND;TZID="Europe/Warsaw":20170402T190000
DTSTAMP:20260422T085405
CREATED:20170228T111020
LAST-MODIFIED:20170321T133937
UID:7200-1491159600-1491159600@teatr.grudziadz.pl
SUMMARY:Koncert pasyjny Alla Camera
DESCRIPTION:W programie m.in.: A. Lotti\, H. Purcell\, O. Gjeilo\, H.M. Górecki\, J. Świder\n\ndyrygent - Mateusz Iwanowski\n\norgany - Marek Matecki\ngodz. 19.00     wstęp wolny\n\nOkres Wielkiego Postu to doskonały czas\, aby chociaż na moment oderwać się od spraw związanych z codziennością. Jak znaleźć czas na refleksję i duchowy odpoczynek? Od zawsze wiadomo\, że muzyka koi\, łagodzi stan ducha\, daje refleksję i wypełnia energią. Chór Alla camera zaprasza na koncert w którym zabrzmią dzieła wielu twórców muzyki chóralnej. \n\nWykonamy dla Państwa utwory Mistrzów: A. Lottiego\, G.P. Palestriny\, ale nie zabraknie także kompozytorów polskich\, m.in.: H.M. Góreckiego\, S.Kwiatkowskiego czy J. Świdra. \nMateusz Iwanowski
URL:http://teatr.grudziadz.pl/wydarzenie/koncert-pasyjny-alla-camera/
LOCATION:ul Kościelna 1\, Grudziądz
CATEGORIES:Plenery
ATTACH;FMTTYPE=image/jpeg:http://teatr.grudziadz.pl/wp-content/uploads/2017/02/PLAKAT-PASYJNY-page-001-3-e1490605177696.jpg
ORGANIZER;CN="CK%20Teatr%20w%20Grudzi%C4%85dzu":MAILTO:szymon.r@teatr.grudziadz.pl
END:VEVENT
END:VCALENDAR