BEGIN:VCALENDAR
VERSION:2.0
PRODID:-//Centrum Kultury Teatr w Grudziądzu - ECPv4.0.5//NONSGML v1.0//EN
CALSCALE:GREGORIAN
METHOD:PUBLISH
X-WR-CALNAME:Centrum Kultury Teatr w Grudziądzu
X-ORIGINAL-URL:http://teatr.grudziadz.pl
X-WR-CALDESC:Events for Centrum Kultury Teatr w Grudziądzu
BEGIN:VEVENT
DTSTART;TZID="Europe/Warsaw":20170421T193000
DTEND;TZID="Europe/Warsaw":20170421T193000
DTSTAMP:20260422T085400
CREATED:20161122T102209
LAST-MODIFIED:20170316T095009
UID:5367-1492803000-1492803000@teatr.grudziadz.pl
SUMMARY:Stand-up
DESCRIPTION:Kolejny\, tym razem kwietniowy wieczór ze stand-upem\, własnym poczuciem humoru wypełnią Olka Szczęśniak i Mieszko Minkiewicz. Wieczór tradycyjnie poprowadzi Tomasz Kwiatkowski.\n\n\n\nOlka Szczęśniak - członkini krakowskiej grupy komediowej "Comedy Lab" i jedna z niewielu przedstawicielek płci pięknej na polskiej scenie stand-upowej. Uczestniczka dużych polskich roastów (m.in. Krzysztofa Skiby). Jako doświadczony komik ma za sobą występy w takich programach telewizyjnych jak "Tylko dla dorosłych" czy u Kuby Wojewódzkiego. Finalistka festiwalu stand-upowego Antrakt w roku 2015.\n\n \n\n \n\nMieszko Minkiewicz - Ze strony Mieszka: "Mieszko szwenda się koło sceny już od 10 lat. Bardzo śmieszny. Podobno przy jego porodzie trzy osoby zmarły ze śmiechu. Na scenie trochę nerdzi. Mówi jak to o siebie nie dba\, ile leveli wczoraj nabił i że pizza to najlepsze jedzenie bo samo\nprzyjeżdża. Poza tym lubi piwo. Od zawsze. Jak dorośnie\, chce być piwem. A rośnie cały czas."\nJa sam Mieszka uważam ze jednego z ciekawszych\, a nieodkrytych jeszcze ciągle komików\, który swoim przyjemnym tembrem głosu i zaciągiem\, nadaje swoim historiom fajnego\, gawędziarskiego tonu.
URL:http://teatr.grudziadz.pl/wydarzenie/stand-up-5/
LOCATION:ul. Wybickiego 38
CATEGORIES:Wynajem
ORGANIZER;CN="CK%20Teatr%20w%20Grudzi%C4%85dzu":MAILTO:ewelina@teatr.grudziadz.pl
END:VEVENT
END:VCALENDAR