BEGIN:VCALENDAR
VERSION:2.0
PRODID:-//Centrum Kultury Teatr w Grudziądzu - ECPv4.0.5//NONSGML v1.0//EN
CALSCALE:GREGORIAN
METHOD:PUBLISH
X-WR-CALNAME:Centrum Kultury Teatr w Grudziądzu
X-ORIGINAL-URL:http://teatr.grudziadz.pl
X-WR-CALDESC:Events for Centrum Kultury Teatr w Grudziądzu
BEGIN:VEVENT
DTSTART;TZID="Europe/Warsaw":20170502T170000
DTEND;TZID="Europe/Warsaw":20170502T170000
DTSTAMP:20260422T072148
CREATED:20170209T092018
LAST-MODIFIED:20170406T060951
UID:6622-1493744400-1493744400@teatr.grudziadz.pl
SUMMARY:Koncert Orkiestr Dętych
DESCRIPTION:Orkiestra Dęta Świecie ma ponad trzydziestoletnią tradycję oraz bogaty dorobek artystyczny. Aktywnie uczestniczy w życiu kulturalnym miasta i regionu\, stanowiąc piękną oprawę muzyczną wszelkich uroczystości państwowych i kościelnych. Jest również wspaniałą wizytówką Polski poza granicami kraju\, gdzie rozsławia piękno polskiej muzyki. Zespół objechał praktycznie całą Europę (od Litwy - po Hiszpanię\, i od Finlandii - po Sycylię ). Podczas jednej z takich podróży szczególnie zaszczytną i wzruszającą uroczystością była prywatna audiencja w Watykanie i błogosławieństwo udzielone Orkiestrze przez Ojca Świętego Jana Pawła II.\n\nZespół jest laureatem wielu konkursów zdobywając tam główne nagrody; m.in. I miejsce na Festiwalu Muzyki Sakralnej w Rumii w 2001 r.\, I miejsce oraz Nagroda Publiczności na Ogólnopolskim Festiwalu Młodzieżowych Orkiestr Dętych w Inowrocławiu w 2007 roku.\n\nOd kiedy Orkiestrze zaczęły towarzyszyć tańczące dziewczęta tj. mażoretki i buławki\, jej występy stały się przyjemnością nie tylko dla ucha\, ale i dla oka. Grupy taneczne\, prócz układów ulicznych i wspólnej musztry paradnej\, prezentują tańce niemalże z całego świata. Młodość dziewcząt\, ich wdzięk i gracja w oprawie pięknych strojów znacznie zwiększyły i tak już liczne grono sympatyków zespołu.\n\nUkłady choreograficzne przygotowują: Pani Jolanta Dutkiewicz-Oleksiak i Pani Monika Gerke\, a całością kieruje i dyryguje Zbigniew Jodłowski. Zespół liczy ponad 80 osób i w takim składzie niesie wszędzie muzykę\, taniec i dużo radości.\n\nGrudziądzka Orkiestra Dęta\n\nOrkiestra została powołana w 2008 roku\, pierwsza oficjalna próba odbyła się w styczniu 2009. Po kilku miesiącach intensywnej pracy – 2 i 3 maja odbyły się pierwsze publiczne występy\, podczas uroczystości święta flagi oraz rocznicy uchwalenia Konstytucji 3 Maja. W szeregach orkiestry znajdują się doświadczeni muzycy\, ale także tacy\, którzy przygodę z instrumentem i nutami zaczęli właśnie w tej orkiestrze. Niektórzy członkowie orkiestry nauczyli się od podstaw czytania nut i gry na instrumencie. Są tu m.in. trąbki\, flety\, klarnety\, puzon\, saksofony. Zaczynali od marszy\, jednym z pierwszych utworów\, który znalazł się w ich repertuarze był hymn Polski. Dziś ćwiczą wytrwale poszerzając muzyczną ofertę o kolejne\, coraz ciekawsze kompozycje\, wśród których są m. in. światowe przeboje\, do grania koncertowego.\n\nGrudziądzka Orkiestra Dęta\, przez krótki czas swojego istnienia\, zdobyła w mieście uznanie oraz grono swoich zagorzałych wielbicieli. Repertuar tej grupy muzyków z koncertu na koncert jest coraz bardziej różnorodny i bogaty i zawsze kończy się gromkimi oklaskami\, a równie głośno klaszczą i ci starsi i ci młodsi. Kto bowiem  nie ulegnie czarowi trąbki czy saksofonu.\n\n 
URL:http://teatr.grudziadz.pl/wydarzenie/koncert-orkiestr-detych-2/
CATEGORIES:Plenery
ORGANIZER;CN="CK%20Teatr%20w%20Grudzi%C4%85dzu":MAILTO:szymon.r@teatr.grudziadz.pl
END:VEVENT
END:VCALENDAR