BEGIN:VCALENDAR
VERSION:2.0
PRODID:-//Centrum Kultury Teatr w Grudziądzu - ECPv4.0.5//NONSGML v1.0//EN
CALSCALE:GREGORIAN
METHOD:PUBLISH
X-WR-CALNAME:Centrum Kultury Teatr w Grudziądzu
X-ORIGINAL-URL:http://teatr.grudziadz.pl
X-WR-CALDESC:Events for Centrum Kultury Teatr w Grudziądzu
BEGIN:VEVENT
DTSTART;TZID="Europe/Warsaw":20170505T193000
DTEND;TZID="Europe/Warsaw":20170505T193000
DTSTAMP:20260422T072219
CREATED:20170208T113501
LAST-MODIFIED:20170419T072738
UID:6623-1494012600-1494012600@teatr.grudziadz.pl
SUMMARY:Miss Fire - koncert połączony z promocją płyty\, support Trio The Janeiro
DESCRIPTION:MISS FIRE (rock/pop/alternative\, Grudziądz/Kwidzyn)\n\nGrudziądzko-kwidzyński zespół łączący w swojej twórczości rock\, pop i alternatywne brzmienia. Grupa zawiązała się w 2014 roku\, a jej skład wykrystalizował w 2015. Obecnie grupę Miss Fire tworzą Vika Stefańska (śpiew) - laureatka licznych festiwali wokalnych (w tym m.in grudziądzkiej GAPY)\, oraz doświadczeni instrumentaliści: gitarzyści Łukasz Kowalski\, Marek Depa\, basista Maciek Ciepcieliński oraz perkusista Piotr Majka.\n\n\nMuzyka zespołu charakteryzuje się zarówno energetycznymi aranżacjami z motoryczną sekcją rytmiczną\, jak i nastrojowymi\,przestrzennymi i melodyjnymi balladami. Grupa ma na swoim koncie singiel zrealizowany w grudziądzkim Unisono Studio pt. "Szybsza Krew"\, natomiast obecnie kończy materiał na pierwszy mini-album. Utworem\, który zwiastuje to wydawnictwo jest zrealizowane w marcu bieżącego roku "Epicentrum". Do utworu zrealizowany został również teledysk\, dostępny w internecie. W 2016 roku Miss Fire został laureatem II miejsca w regionalnym Przeglądzie Muzycznym KATAR w toruńskim klubie Od Nowa.\nObecnie Miss Fire przygotowuje się do serii koncertów promujących najnowszy materiał.\n\n[embed]https://www.youtube.com/watch?v=3e_FA-cXz2E[/embed]\nTrio The Janeiro to grupa przyjaciół\, grających ze sobą od dawna w przeróżnych projektach. Blisko dwa lata temu na jesieni odkryli bluesowe korzenie i zaczynając standardami z lat 70"\, ostatecznie wylądowali tutaj - w Trio The Janeiro\, gdzie efekty luźnych pomysłów spotykają się z mieszanką inspiracji.
URL:http://teatr.grudziadz.pl/wydarzenie/miss-fire-koncert-polaczony-z-promocja-plyty/
LOCATION:ul. Wybickiego 38
CATEGORIES:Koncert
ATTACH;FMTTYPE=image/jpeg:http://teatr.grudziadz.pl/wp-content/uploads/2017/02/dfbdbd-Medium-2.jpg
ORGANIZER;CN="Teatr":MAILTO:ewelina@teatr.grudziadz.pl
END:VEVENT
END:VCALENDAR