BEGIN:VCALENDAR
VERSION:2.0
PRODID:-//Centrum Kultury Teatr w Grudziądzu - ECPv4.0.5//NONSGML v1.0//EN
CALSCALE:GREGORIAN
METHOD:PUBLISH
X-WR-CALNAME:Centrum Kultury Teatr w Grudziądzu
X-ORIGINAL-URL:http://teatr.grudziadz.pl
X-WR-CALDESC:Events for Centrum Kultury Teatr w Grudziądzu
BEGIN:VEVENT
DTSTART;TZID="Europe/Warsaw":20170506T110000
DTEND;TZID="Europe/Warsaw":20170506T110000
DTSTAMP:20260422T071428
CREATED:20170224T080606
LAST-MODIFIED:20170224T080606
UID:6832-1494068400-1494068400@teatr.grudziadz.pl
SUMMARY:"Czerwony Kapturek" Teatrzyk Lalek Miszmasz
DESCRIPTION:
URL:http://teatr.grudziadz.pl/wydarzenie/czerwony-kapturek-teatrzyk-lalek-miszmasz-4/
LOCATION:Teatralna\, 1\, Grudziądz\, 86-300\, Polska
CATEGORIES:Spektakle
ATTACH;FMTTYPE=image/jpeg:http://teatr.grudziadz.pl/wp-content/uploads/2017/02/Kopia-Miszmasz-6-Medium-2-1024x683.jpg
ORGANIZER;CN="CK%20Teatr%20w%20Grudzi%C4%85dzu":MAILTO:ewelina@teatr.grudziadz.pl
END:VEVENT
BEGIN:VEVENT
DTSTART;TZID="Europe/Warsaw":20170506T123000
DTEND;TZID="Europe/Warsaw":20170506T123000
DTSTAMP:20260422T071428
CREATED:20170224T080517
LAST-MODIFIED:20170224T080517
UID:6831-1494073800-1494073800@teatr.grudziadz.pl
SUMMARY:"Czerwony Kapturek" Teatrzyk Lalek Miszmasz
DESCRIPTION:
URL:http://teatr.grudziadz.pl/wydarzenie/czerwony-kapturek-teatrzyk-lalek-miszmasz-3/
LOCATION:Teatralna\, 1\, Grudziądz\, 86-300\, Polska
CATEGORIES:Spektakle
ATTACH;FMTTYPE=image/jpeg:http://teatr.grudziadz.pl/wp-content/uploads/2017/02/Kopia-Miszmasz-6-Medium-2-1024x683.jpg
ORGANIZER;CN="CK%20Teatr%20w%20Grudzi%C4%85dzu":MAILTO:ewelina@teatr.grudziadz.pl
END:VEVENT
END:VCALENDAR