BEGIN:VCALENDAR
VERSION:2.0
PRODID:-//Centrum Kultury Teatr w Grudziądzu - ECPv4.0.5//NONSGML v1.0//EN
CALSCALE:GREGORIAN
METHOD:PUBLISH
X-WR-CALNAME:Centrum Kultury Teatr w Grudziądzu
X-ORIGINAL-URL:http://teatr.grudziadz.pl
X-WR-CALDESC:Events for Centrum Kultury Teatr w Grudziądzu
BEGIN:VEVENT
DTSTART;TZID="Europe/Warsaw":20170508T100000
DTEND;TZID="Europe/Warsaw":20170509T100000
DTSTAMP:20260422T072355
CREATED:20161122T113053
LAST-MODIFIED:20170419T124500
UID:5372-1494237600-1494324000@teatr.grudziadz.pl
SUMMARY:Kieszeń Sceniczna - przegląd teatralny
DESCRIPTION:Centrum Kultury Teatr w Grudziądzu już po raz kolejny jest organizatorem przeglądu teatralno-kabaretowego „Grudziądzka Kieszeń Sceniczna”. Impreza organizowana jest z myślą o amatorskich grupach teatralnych i kabaretowych\, działających w ośrodkach kultury oraz przy szkołach.\n\nPrzez kolejne dni trwania prezentacji jurorzy oceniać będą aktorów - amatorów w kategoriach: szkół podstawowych\, gimnazjalnych\, średnich a także w kategorii: kabarety. Grudziądzka kieszeń jest przeglądem o zasięgu regionalnym\, której zwieńczeniem jest uroczysta gala z udziałem laureatów.\n\nPrzeglądy konkursowe odbywać się będą w poniedziałek i wtorek. Koncert Galowy odbędzie się w piątek (12 maja) o godzinie 10.00. Zapraszamy wszystkich zainteresowanych wstęp jest bezpłatny.\n\n \n\n\nDOKUMENTY DO POBRANIA:\nKieszeń 2017karta zgloszenia\nKieszeń 2017 oświadczenie – odpowiedzialność za zespół\nKieszeń 2017 pismo przewodnie\nKieszeń 2017 regulamin\n\n
URL:http://teatr.grudziadz.pl/wydarzenie/kieszen-sceniczna/
LOCATION:Teatralna\, 1\, Grudziądz\, 86-300\, Polska
CATEGORIES:Koncert
ORGANIZER;CN="CK%20Teatr%20w%20Grudzi%C4%85dzu":MAILTO:ewelina@teatr.grudziadz.pl
END:VEVENT
END:VCALENDAR