BEGIN:VCALENDAR
VERSION:2.0
PRODID:-//Centrum Kultury Teatr w Grudziądzu - ECPv4.0.5//NONSGML v1.0//EN
CALSCALE:GREGORIAN
METHOD:PUBLISH
X-WR-CALNAME:Centrum Kultury Teatr w Grudziądzu
X-ORIGINAL-URL:http://teatr.grudziadz.pl
X-WR-CALDESC:Events for Centrum Kultury Teatr w Grudziądzu
BEGIN:VEVENT
DTSTART;TZID="Europe/Warsaw":20170511T180000
DTEND;TZID="Europe/Warsaw":20170511T180000
DTSTAMP:20260422T072300
CREATED:20160829T090805
LAST-MODIFIED:20170426T111939
UID:4342-1494525600-1494525600@teatr.grudziadz.pl
SUMMARY:Otwarcie wystawy dyplomantów Liceum Plastycznego w Grudziądzu
DESCRIPTION:Otwarcie wystawy dyplomantów Liceum Plastycznego w Grudziądzu\ngodz. 18.00         wstęp wolny \n\nKoncert Sekcji Instrumentów Smyczkowych\nPaństwowej Szkoły Muzycznej I i II stopnia w Grudziądzu\ngodz. 18.30     wstęp wolny \n\nDyplom to ukoronowanie czteroletniej nauki posługiwania się kreską i kolorem w pracach o różnej tematyce. Umiejętności rozwinięte przez uczniów są niezbędne w dalszym kształceniu na kierunkach artystycznych. W ocenie nauczycieli jednak\, najważniejszą umiejętnością jaką uzyskali ci młodzi ludzie jest kreatywne myślenie\, które przydaje się we wszystkich dziedzinach życia. Wystawa prac dyplomowych uczniów grudziądzkiego Liceum Plastycznego to zwieńczenie czteroletniej pracy młodych ludzi tworzących pod okiem swoich opiekunów.\n
URL:http://teatr.grudziadz.pl/wydarzenie/wystawa-dyplomanci-liceum-plastycznego-wystawa-zbiorowa/
LOCATION:ul. Wybickiego 38
CATEGORIES:Wystawy
ORGANIZER;CN="CK%20Teatr%20w%20Grudzi%C4%85dzu":MAILTO:szymon.r@teatr.grudziadz.pl
END:VEVENT
BEGIN:VEVENT
DTSTART;TZID="Europe/Warsaw":20170511T183000
DTEND;TZID="Europe/Warsaw":20170511T183000
DTSTAMP:20260422T072300
CREATED:20170208T122257
LAST-MODIFIED:20170508T071719
UID:6625-1494527400-1494527400@teatr.grudziadz.pl
SUMMARY:Koncert uczniów Państwowej Szkoły Muzycznej I i II stopnia w Grudziądzu
DESCRIPTION:"Koncert na smyczki i....."\n\nW pierwszej części koncertu usłyszymy muzykę kameralną wykonywaną przez duety\,\ntercety i kwartety w różnych zestawieniach instrumentów. Drugą część natomiast wypełnią występy solistów z towarzyszeniem fortepianu.\n\nProwadzenie koncert - Piotr Jankowski\nProgram koncertu:\n1.Alicja Siemiątowska \n- A.Komarowski – Koncert e-moll cz. I\n- H.Wieniawski - Legenda\nprzy fortepianie Monika Kopaczewska.\n2.Małgorzata Grzanka \n- R.Statkowski – Krakowiak\nprzy fortepianie Dorota Wardulińska.\n3.Natalia Kucińska \n- Drdla - „Serenada”\nprzy fortepianie Joanna Kasprowicz.\n4.Stanisław Warduliński \n- D.Kabalewski – Koncert skrzypcowy C- dur cz. I.\nprzy fortepianie Joanna Kasprowicz.\n5.Duet skrzypcowy: Sara Kozłowska i Latifia Obijalska\n- L.Mozart – „Pobudka”.\n 6.Duet skrzypcowy z fortepianem:\nDominika Szmidt – skrzypce\, Martyna Szulc- skrzypce\, Max Szulc- fortepian\n- D.Szostakowicz – „ Gawot”.\n7. Duet: Marta Porębna ( skrzypce) i Paweł Wiśniewski ( akordeon).\n- A.Piazzola- „Ave Maria”.\n8. Duet skrzypcowy: Zuzanna Bala i Alicja Siemiątkowska\n- A.Vivaldi – I cz. koncertu a-moll na 2 skrzypiec\nprzy fortepianie Monika Kopaczewska \n9.Kwartet smyczkowy:\nNatalia Kucińska – skrzypce\, Lidia Stróżyk –skrzypce\,\nAida August –altówka\, Antoni Antkiewicz –wiolonczela\n- C.Gardel – „Por Una Labeza”.\n10.Trio fortepianowe: \nNatalia Kucińska- skrzypce\, Małgorzata Grzanka – skrzypce\, \nCyprian Tessmer - fortepian\n- D.Szostakowicz – „Walc”\, „ Polka”.\n11.Orkiestra smyczkowa\n- E.Elgar – Marsz \n- G.Faure- „ Siciliana”\n- R.Strauss – „Polka”\n- J.Offenbach – „Barcarolla”
URL:http://teatr.grudziadz.pl/wydarzenie/koncert-uczniow-panstwowej-szkoly-muzycznej-ii-stopnia-grudziadzu/
LOCATION:ul. Wybickiego 38
CATEGORIES:Koncert
ATTACH;FMTTYPE=image/jpeg:http://teatr.grudziadz.pl/wp-content/uploads/2017/02/13-1.jpg
ORGANIZER;CN="CK%20Teatr%20w%20Grudzi%C4%85dzu":MAILTO:szymon.r@teatr.grudziadz.pl
END:VEVENT
END:VCALENDAR