BEGIN:VCALENDAR
VERSION:2.0
PRODID:-//Centrum Kultury Teatr w Grudziądzu - ECPv4.0.5//NONSGML v1.0//EN
CALSCALE:GREGORIAN
METHOD:PUBLISH
X-WR-CALNAME:Centrum Kultury Teatr w Grudziądzu
X-ORIGINAL-URL:http://teatr.grudziadz.pl
X-WR-CALDESC:Events for Centrum Kultury Teatr w Grudziądzu
BEGIN:VEVENT
DTSTART;TZID="Europe/Warsaw":20170513T193000
DTEND;TZID="Europe/Warsaw":20170513T193000
DTSTAMP:20260422T072300
CREATED:20170210T072203
LAST-MODIFIED:20170509T120223
UID:6627-1494703800-1494703800@teatr.grudziadz.pl
SUMMARY:Stand-up - zakończenie sezonu
DESCRIPTION:Zapraszamy wszystkich na finał grudziądzkiego sezonu komediowego! W ciągu ostatnich dwóch lat spotykaliśmy się niemal co miesiąc w Klubie Akcent\, czerpiąc z tej gościnności pełnymi garściami. Udało nam się wspólnymi siłami stworzyć jedną z najlepszych scen komediowych w Polsce. O publice w Grudziądzu mówi cały kraj. Żywiołowość i pobudzenie\, które są charakterystyczne dla naszego miasta\, sprawiły\, że chcą tu występować i występują najlepsi komicy. Przypomnę tylko\, że gościliśmy takie osoby jak Łukasz Lotek Lodkowski\, Cezary Jurkiewicz\, Sebastian Rejent czy Abelard Giza. Każda z imprez była wyśmienita. Teraz zapraszamy Was na ukoronowanie tej dwuletniej współpracy do Centrum Kultury Teatr\, abyśmy zakończyli sezon z hukiem i przytupem. Potem damy sobie odpocząć przez wakacje i wrócimy z jeszcze większym hukiem i jeszcze większym przytupem we wrześniu!\n\n\n\nWystąpią:\n\nJasiek Borkowski - człowiek ze wszech miar niedopasowany do życia. Za delikatny jak na dresiarza\, zbyt spięty jak na komika\, ale też potwornie nieogarnięty jak na zwykłego uczestnika życia (do dzisiaj nie wie\, jak się płaci podatki i czemu). Gościliśmy go w lutym 2016\, jedna z najciekawszych postaci polskiego stand-upu.\n\nPaweł Chałupka - Jasiek sypia z jego siostrą. Zupełnie poważnie. Sam Paweł to wulkan energii na scenie\, pełen gniewu i szaleństwa\, a także stawiający pytania rzędu granicznych. Jeden ze zwycięzców Antrakt Stand-up Festiwalu.\n\nBłażej Krajewski - spec od imitacji głosów i wykorzystywaniu ich w swoich setach komediowych. Zdecydowanie jeden z najzdolniejszych komików\, którzy przecierają szlaki dla kolejnych śmiałków tej formie komedii.\n\nTomasz Kwiatkowski - rodzimy komik\, gospodarz sceny. Choć sam mówi\, że czego się nie dotknie\, obraca się w proch i pył\, to jednak stworzył w Grudziądzu jedną z najlepszych scen stand-upowych w Polsce. Na scenie mocno zdenerwowany\, wręcz agresywny. Występy to dla niego pojedynki na ringu\, gdzie w jednym kącie jest on\, a w drugim kącie cała reszta świata.\n\nPiotr Popek - człowiek o wielu twarzach i żadnej uśmiechniętej. Zapytany o to\, jak ostatnio czuł się na rodzinnej imprezie\, zaczyna patrzeć na rozmówcę jak zaciekawiony szczeniak\, bo nie rozumie postawionego przed nim konceptu. Zdecydowanie pokochany przez grudziądzką publikę. I każdą inną\, bo jego chce się przygarnąć.\n\nBartosz Zalewski - abstrakcja i awangarda\, ale oparta w każdym punkcie o prawdę. Jego historie\, choć niepokojące\, gdzieś się zrodziły\, skądś się wzięły. I każdy kto go słucha zastanawia się\, czy on ma takie szalone życie czy umysł? Na to pytanie\, odpowiem pytaniem: a to nie można mieć obu?\n\n \n\n 
URL:http://teatr.grudziadz.pl/wydarzenie/stand-up-zakonczenie-sezonu/
LOCATION:Teatralna\, 1\, Grudziądz\, 86-300\, Polska
CATEGORIES:Koncert
ATTACH;FMTTYPE=image/jpeg:http://teatr.grudziadz.pl/wp-content/uploads/2017/02/stand-up-maj-e1492605508678.jpg
ORGANIZER;CN="CK%20Teatr%20w%20Grudzi%C4%85dzu":MAILTO:ewelina@teatr.grudziadz.pl
END:VEVENT
END:VCALENDAR