BEGIN:VCALENDAR
VERSION:2.0
PRODID:-//Centrum Kultury Teatr w Grudziądzu - ECPv4.0.5//NONSGML v1.0//EN
CALSCALE:GREGORIAN
METHOD:PUBLISH
X-WR-CALNAME:Centrum Kultury Teatr w Grudziądzu
X-ORIGINAL-URL:http://teatr.grudziadz.pl
X-WR-CALDESC:Events for Centrum Kultury Teatr w Grudziądzu
BEGIN:VEVENT
DTSTART;TZID="Europe/Warsaw":20170514T120000
DTEND;TZID="Europe/Warsaw":20170514T120000
DTSTAMP:20260422T071504
CREATED:20170307T145221
LAST-MODIFIED:20170514T082743
UID:7254-1494763200-1494763200@teatr.grudziadz.pl
SUMMARY:Koncert niedzielny: Koncert uczniów PSM I i II stopnia w Grudziądzu
DESCRIPTION:Majowy koncert niedzielny upłynie w towarzystwie uczniów Państwowej Szkoły Muzycznej I i II stopnia im. Stanisława Moniuszki w Grudziądzu.\n\nWystąpią:\n\n* Zespół akordeonowy\,\n* Duet fortepianowy\,\n* Trio fortepianowe\,\n* Zespół saksofonowy\,\n* Zespół fletowy\,\n* Orkiestra dęta\,\n* Orkiestra smyczkowa\,\n* Zespół Muzyki Rozrywkowej.\n\nOtwarcie wystawy:\n\nZofia Sumczyńska\n\nUkończyła Państwową Wyższą Szkołę Sztuk Plastycznych (obecnie Uniwersytet  Artystyczny) w Poznaniu. Zajmuje się ilustracją\, witrażem i malarstwem.  Jej prace znajdują się w zbiorach prywatnych w kraju i za granicą. Pisze bajki. Jest autorką monumentalnych witraży do Kościoła Niepokalanego Serca NMP w Nowym Dworze Gdańskim. Brała udział w wielu wystawach zbiorowych i indywidualnych oraz plenerach malarskich.\n\nCzterokrotnie nominowana była do nagrody „Wierzyczanka” w dziedzinie kultury Prezydenta Miasta Starogard Gdański.\n\nZa swoją działalność artystyczną Zofia Sumczyńska została uhonorowana nagrodą Starosty Starogardzkiego\, Twórca Roku „Kociewski Gryf” 2014.\n\nWystawy indywidualne:\n\n1995 - Starogardzkie Centrum Kultury\n2000 - Starogardzkie Centrum Kultury\n2006 - Restauracja „Ogródek” Starogard Gd.\n2010 - Cafe Anka Starogard Gd.\n2011 - Muzeum Ziemi Kociewskiej\n2012 - Galeria Kazimiery Zajączkowskiej "Mestwin" - Gdańsk\n2012 - 24B Galeria Autorska - Starogard Gdański\n2013 - Starogardzkie Centrum Kultury\n2013 - Galeria Sztuki Wyższej Szkoły Policji w Szczytnie\n2014 - 24B Galeria Autorska – Starogard Gdański\n\n2016 – Muzeum Ziemi Kociewskiej\n\n2016 – Galeria Kazimiery Zajączkowskiej „Mestwin” - Gdańsk\n\n2017 – Fabryka Sztuk\, Tczew\n\nWystawy zbiorowe:\n1996  - V Ogólnopolskie Triennale Akwareli\, Lublin\n- Ogólnopolska wystawa ''Cztery Pory Roku"\, Ośrodek Kultury\, Szczecinek\n- Międzynarodowy plener i wystawa poplenerowa\, Ryn\n- "Wystawa Na Rzecz Ofiar Trzęsienia Ziemi w Kobe i Osace" - Tokio\, Osaka\, Kioto\n1997 - Wystawa Jubileuszowa - "20 lat Galerii A"\, Starogardzkie Centrum Kultury\n1998 - Galerie Des Forum\, Norderstedt\, Niemcy\n1999 - Kościół Św Jana wystawa ZPAP\, Gdańsk\n- "Dialog poezji i malarstwa"\, Państwowa Opera Bałtycka\, Gdańsk\n2000 - Centrum Kultury\, Skarszewy\n- International Portfollio Show\, Glasgow\, Szkocja\n2001 - Galeria „Pod Plafonem”\, Wrocław\n- Galeria Kazimiery Zajączkowskiej „Mestwin”\, Gdańsk\n2008 - Burnside Gallery – Szkocja\n2010 - Galeria A - Starogardzkie Centrum Kultury\n- 100sqft - art exhibition\, Londyn\n2014 - EAGL gallery quadriART\, Berlin\n2014 - Annaborg\, Hillerod\, Dania\n\n2015 - Kolor i linia\, Galeria A\, Starogardzkie Centrum Kultury\n\n2016 – Wystawa członków Starogardzkiego Towarzystwa Przyjaciół Sztuki – Galeria A\,                               Starogardzkie Centrum Kultury\n\nPublikacje:\n\n1996 – ilustracje do bajki Andrzeja Sikorskiego pt: „Latawiec Jeża Chermółki”\, Wydawnictwo Pallottinum\n\n2015 – publikacja wspomnień pt: „ Łzy matki” w Kwartalniku Społeczno-Kulturalnym Dolnego Powiśla i Żuław\, Nr 1 (19) 2015 „PROWINCJA”\n\n2015 – wydanie bajki z ilustracjami autorskimi pt: „Miecio – Śmiecio”\n\n   
URL:http://teatr.grudziadz.pl/wydarzenie/koncert-niedzielny-koncert-uczniow-psm-i-i-ii-stopnia-w-grudziadzu/
LOCATION:ul. Teatralna 1\, Grudziądz
CATEGORIES:Koncert
ORGANIZER;CN="CK%20Teatr%20w%20Grudzi%C4%85dzu":MAILTO:szymon.r@teatr.grudziadz.pl
END:VEVENT
END:VCALENDAR