BEGIN:VCALENDAR
VERSION:2.0
PRODID:-//Centrum Kultury Teatr w Grudziądzu - ECPv4.0.5//NONSGML v1.0//EN
CALSCALE:GREGORIAN
METHOD:PUBLISH
X-WR-CALNAME:Centrum Kultury Teatr w Grudziądzu
X-ORIGINAL-URL:http://teatr.grudziadz.pl
X-WR-CALDESC:Events for Centrum Kultury Teatr w Grudziądzu
BEGIN:VEVENT
DTSTART;TZID="Europe/Warsaw":20170515T100000
DTEND;TZID="Europe/Warsaw":20170517T000000
DTSTAMP:20260422T072239
CREATED:20170210T071800
LAST-MODIFIED:20170419T124103
UID:6641-1494842400-1494979200@teatr.grudziadz.pl
SUMMARY:GAPA 2017
DESCRIPTION:Centrum Kultury Teatr w Grudziądzu już po raz kolejny jest organizatorem Grudziądzkich Amatorskich Prezentacjach Artystycznych – GAPA 2017. Jest to impreza o zasięgu regionalnym\, która trwa 3 dni i kończy się uroczystą galą z udziałem laureatów poszczególnych kategorii artystycznych: taniec\, muzyka\, plastyka.\n\nCelem GAPY jest integracja i aktywizacja dzieci i młodzieży szkół podstawowych\, gimnazjalnych i ponadgimnazjalnych w różnych dziedzinach artystycznych\, doskonalenie warsztatu artystycznego wykonawców i instruktorów\, a także promowanie najlepszych artystów – amatorów z naszego regionu.\n\nW prezentacjach biorą udział zespoły i wykonawcy indywidualni\, działający przy szkołach\, domach kultury i świetlicach\, a także osoby niezrzeszone. W przeglądzie nie mogą  uczestniczyć zawodowi wykonawcy i zespoły\, które są związane umowami z agencjami artystycznymi.\n\nZmagania w poszczególnych kategoriach ocenia jury\, które przyzna Złote i Srebrne Gapy.\n\nPrzeglądy konkursowe w tym roku zaplanowano następująco:\n\n\t15 maja\, godz. 10.00 – prezentacje taneczne\n\t16 i 17 maja\, godz. 10.00 – prezentacje muzyczne\n\t19 maja\, godz. 10.00 – Koncert Galowy GAPA 2017\n\nOd 16 maja czynna będzie w teatrze wystawa pokonkursowa prezentująca wybrane prace biorące udział w kategorii - plastyka.\nDOKUMENTY DO POBRANIA:\npismo_przewodnie2017\nregulamin_taniec2017\nregulamin_plastyka2017 \nregulamin_ogolny2017\nregulamin_muzyka2017\noswiadczenie2017\nKarta_zgłoszenia_Muzyka_2017\nkarta__zgloszenia_taniec2017
URL:http://teatr.grudziadz.pl/wydarzenie/gapa-2017/
LOCATION:Teatralna\, 1\, Grudziądz\, 86-300\, Polska
CATEGORIES:GAPA
ATTACH;FMTTYPE=image/jpeg:http://teatr.grudziadz.pl/wp-content/uploads/2017/02/pismo_przewodnie2017-page-001-2-724x1024-1.jpg
ORGANIZER;CN="CK%20Teatr%20w%20Grudzi%C4%85dzu":MAILTO:oliwia@teatr.grudziadz.pl
END:VEVENT
END:VCALENDAR