BEGIN:VCALENDAR
VERSION:2.0
PRODID:-//Centrum Kultury Teatr w Grudziądzu - ECPv4.0.5//NONSGML v1.0//EN
CALSCALE:GREGORIAN
METHOD:PUBLISH
X-WR-CALNAME:Centrum Kultury Teatr w Grudziądzu
X-ORIGINAL-URL:http://teatr.grudziadz.pl
X-WR-CALDESC:Events for Centrum Kultury Teatr w Grudziądzu
BEGIN:VEVENT
DTSTART;TZID="Europe/Warsaw":20170521T110000
DTEND;TZID="Europe/Warsaw":20170521T110000
DTSTAMP:20260422T072148
CREATED:20170313T074836
LAST-MODIFIED:20170406T123941
UID:7300-1495364400-1495364400@teatr.grudziadz.pl
SUMMARY:„Czerwony Kapturek” - bajka dla dzieci
DESCRIPTION:Jeśli znacie bajkę o małej dziewczynce noszącej czerwoną czapeczkę\, która nie słuchała mamy a babci zadawała dziwne pytania o wielkie uszy\, oczy i zęby\, to nie możecie przegapić najnowszej 19. premiery Teatrzyku Lalek „Miszmasz”. Mamy bowiem dla Was naszą wersję „Czerwonego Kapturka” w konwencji lalek muppetowych.\n\nWystępują:\n\nCzerwony Kapturek – Natalia Elwertowska\n\nMama – Gabriela Fyda\n\nBabcia – Marcin Kubala\n\nWilk – Paweł Gołębiewski\n\nGrzybiarz – Marcel Dykalski\n\nBorowiczek – Joanna Sucharska\n\nMuchomorek – Sandra Elwertowska\n\nŚlimak – Julian Sucharski\n\nScenariusz i reżyseria: Renata Boguska
URL:http://teatr.grudziadz.pl/wydarzenie/czerwony-kapturek-bajka-dla-dzieci/
LOCATION:Teatralna\, 1\, Grudziądz\, 86-300\, Polska
CATEGORIES:Spektakle
ORGANIZER;CN="CK%20Teatr%20w%20Grudzi%C4%85dzu":MAILTO:szymon.r@teatr.grudziadz.pl
END:VEVENT
BEGIN:VEVENT
DTSTART;TZID="Europe/Warsaw":20170521T120000
DTEND;TZID="Europe/Warsaw":20170521T120000
DTSTAMP:20260422T072148
CREATED:20170313T074924
LAST-MODIFIED:20170406T124026
UID:7301-1495368000-1495368000@teatr.grudziadz.pl
SUMMARY:„Czerwony Kapturek” - bajka dla dzieci
DESCRIPTION:Jeśli znacie bajkę o małej dziewczynce noszącej czerwoną czapeczkę\, która nie słuchała mamy a babci zadawała dziwne pytania o wielkie uszy\, oczy i zęby\, to nie możecie przegapić najnowszej 19. premiery Teatrzyku Lalek „Miszmasz”. Mamy bowiem dla Was naszą wersję „Czerwonego Kapturka” w konwencji lalek muppetowych.\n\nWystępują:\n\nCzerwony Kapturek – Natalia Elwertowska\n\nMama – Gabriela Fyda\n\nBabcia – Marcin Kubala\n\nWilk – Paweł Gołębiewski\n\nGrzybiarz – Marcel Dykalski\n\nBorowiczek – Joanna Sucharska\n\nMuchomorek – Sandra Elwertowska\n\nŚlimak – Julian Sucharski\n\nScenariusz i reżyseria: Renata Boguska\n\nTeatrzyk Lalek Miszmasz
URL:http://teatr.grudziadz.pl/wydarzenie/czerwony-kapturek-bajka-dla-dzieci-2/
LOCATION:Teatralna\, 1\, Grudziądz\, 86-300\, Polska
CATEGORIES:Spektakle
ORGANIZER;CN="CK%20Teatr%20w%20Grudzi%C4%85dzu":MAILTO:szymon.r@teatr.grudziadz.pl
END:VEVENT
BEGIN:VEVENT
DTSTART;TZID="Europe/Warsaw":20170521T160000
DTEND;TZID="Europe/Warsaw":20170521T160000
DTSTAMP:20260422T072148
CREATED:20170224T085313
LAST-MODIFIED:20170411T114431
UID:6852-1495382400-1495382400@teatr.grudziadz.pl
SUMMARY:"Przepraszam\, co Pan tu robi?"– komedia dla widzów dorosłych
DESCRIPTION:Był ciepły jesienny wieczór. Słońce powoli zachodziło ustępując miejsca nocy. Delikatny wiatr\, poruszał gałązkami starej wierzby\, cicho postukując w okiennicę stuletniego dworku. Jedynym i niepodważalnym świadkiem tamtych wydarzeń był księżyc dążący do pełni. Lecz nie uprzedzajmy faktów... Pomieszczenie\, w którym się znajdujemy\, urządzone z gustem\, wydawać by się mogło oazą spokoju\, lecz czy oby na pewno? Michał usiadł wygodnie w fotelu\, przewracając kolejną stronę gazety\, ukradkiem zerka na Marię\, która ciągnąc Karola za rękę\, w pośpiechu trzaska drzwiami. Tymczasem Krystyna\, ze stoickim spokojem\, bacznie obserwuje Jana\, który skrzętnie szuka zegarka. Czy spodziewają się\, że już niebawem ?... Czy przeczuwają\, że już za chwilę ?... Jedno jest pewne\, teraz wydarzenia zaczynają toczyć się błyskawicznie. Los bohaterów wydaje się być przesądzony. Czy aby na pewno? Pięć osób\, siedem osobowości i jedna szafa. Co z tego wyniknie? Sytuacje\, które miały miejsce poddawane są w wątpliwość\, a czasy tych wydarzeń nie do końca są określone. Absurdalne dialogi\, błyskotliwe riposty\, popkulturowa erudycja i sytuacje\, w które bohaterowie zapędzają się z coraz większym entuzjazmem. Perypetie tych postaci\, są bliskie każdemu z nas. Zobaczymy w nich siebie\, wujka czy sąsiada. Nie jest to kolejna adaptacja angielskiej sztuki. Rozśmieszy\, zaskoczy\, momentami oburzy. Po obejrzeniu tej komedii\, będziesz miał więcej pytań niż odpowiedzi. Pytań\, na które odpowiedzieć musisz sobie sam.\n\nWystępują:\nMARIA: Agnieszka Wielgosz\,\nKRYSTYNA: Małgorzata Kosik\,\nJAN: Bartosz Żukowski\,\nKAROL: Wojciech Błach\,\nMICHAŁ: Andrzej Niemirski
URL:http://teatr.grudziadz.pl/wydarzenie/przepraszam-co-pan-tu-robi/
LOCATION:ul. Teatralna 1\, Grudziądz
CATEGORIES:Spektakle
ATTACH;FMTTYPE=image/jpeg:http://teatr.grudziadz.pl/wp-content/uploads/2017/02/spektakl-co-pan-tu-robi-2-e1487926372575.jpg
ORGANIZER;CN="CK%20Teatr%20w%20Grudzi%C4%85dzu":MAILTO:szymon.r@teatr.grudziadz.pl
END:VEVENT
END:VCALENDAR