BEGIN:VCALENDAR
VERSION:2.0
PRODID:-//Centrum Kultury Teatr w Grudziądzu - ECPv4.0.5//NONSGML v1.0//EN
CALSCALE:GREGORIAN
METHOD:PUBLISH
X-WR-CALNAME:Centrum Kultury Teatr w Grudziądzu
X-ORIGINAL-URL:http://teatr.grudziadz.pl
X-WR-CALDESC:Events for Centrum Kultury Teatr w Grudziądzu
BEGIN:VEVENT
DTSTART;TZID="Europe/Warsaw":20170525T170000
DTEND;TZID="Europe/Warsaw":20170525T170000
DTSTAMP:20260422T072301
CREATED:20170313T075252
LAST-MODIFIED:20170522T085011
UID:7302-1495731600-1495731600@teatr.grudziadz.pl
SUMMARY:Koncert z okazji Dnia Matki
DESCRIPTION:Z okazji Dnia Matki zapraszamy na koncert słuchaczy Studia Piosenki Zbigniewa Poliszczuka. W tym szczególnym dniu zaplanowano wieczór z przebojami najpopularniejszych wokalistów nie tylko polskiej\, ale też światowej sceny. W wykonaniu grupy wokalistów\, skupionych wokół Zbigniewa Poliszczuka usłyszymy specjalne dedykacje dla mam.\n\nW gronie wykonawców\, którzy zaprezentują się przed grudziądzką publicznością znajdą się laureaci wielu ogólnopolskich przeglądów wokalnych\, ale nie tylko\, będą też bardzo młodzi wykonawcy. Zapowiada się\, zatem\, prawdziwy pokaz umiejętności wokalnych\, ale przede wszystkim miły wieczór dla wszystkich\, którzy lubią dobrą piosenkę. Wokalistom akompaniował będzie Zbigniew Poliszczuk.
URL:http://teatr.grudziadz.pl/wydarzenie/koncert-z-okazji-dnia-matki/
LOCATION:Teatralna\, 1\, Grudziądz\, 86-300\, Polska
CATEGORIES:Koncert
ATTACH;FMTTYPE=image/jpeg:http://teatr.grudziadz.pl/wp-content/uploads/2016/01/20170407_fotosart_pl_042-Medium.jpg
ORGANIZER;CN="CK%20Teatr%20w%20Grudzi%C4%85dzu":MAILTO:ewelina@teatr.grudziadz.pl
END:VEVENT
END:VCALENDAR