BEGIN:VCALENDAR
VERSION:2.0
PRODID:-//Centrum Kultury Teatr w Grudziądzu - ECPv4.0.5//NONSGML v1.0//EN
CALSCALE:GREGORIAN
METHOD:PUBLISH
X-WR-CALNAME:Centrum Kultury Teatr w Grudziądzu
X-ORIGINAL-URL:http://teatr.grudziadz.pl
X-WR-CALDESC:Events for Centrum Kultury Teatr w Grudziądzu
BEGIN:VEVENT
DTSTART;TZID="Europe/Warsaw":20170527T100000
DTEND;TZID="Europe/Warsaw":20170528T010000
DTSTAMP:20260422T072218
CREATED:20170309T091204
LAST-MODIFIED:20170526T092608
UID:7269-1495879200-1495933200@teatr.grudziadz.pl
SUMMARY:Majówka na trawie
DESCRIPTION:Majówka na trawie\n\nPo raz kolejny Rynek naszego miasta w ostatni weekend maja za sprawą naturalnej trawy zamieni się w zieloną wyspę. „Majówka na trawie” jest jedną z najbardziej lubianych i wyczekiwanych imprez przez mieszkańców Grudziądza. To doskonała okazja\, aby ostatni majowy weekend spędzić na łonie natury w samym sercu miasta\, w gronie rodziny\ni przyjaciół.\n\nPunktem kulminacyjnym majówki jest wspólne śniadanie\, na które tłumnie przybywają mieszkańcy\, aby sobotnie śniadanie spędzić „pod chmurką”. Śniadaniu towarzyszy jarmark żywności ekologicznej promujący regionalnych producentów zdrowego jedzenia oraz działania z zakresu edukacji ekologicznej. Wszystko odbywa się w klimacie promocji zdrowego stylu życia i ekologii. Zieloną sobotę kończymy kinem pod gwiazdami\, gdzie wspólnie oglądamy filmy do późnych godzin nocnych.\n\nW niedzielę zapraszamy najmłodszych wraz z rodzicami do wspólnej zabawy\nna kolorowy happening z okazji zbliżającego się Dnia Dziecka.\n\n \n\n27 maja  sobota     godz. 10.00 – 1.00\n\n– wspólne śniadanie na trawie  (godz. 10.00)\,\n– jarmark ekologiczny\,\n– warsztaty ekologiczne\, występy muzyczne\,\n– zajęcia ruchowe i wspólna gimnastyka\,\n\n- koncert „Gdzie się podziały tamte prywatki”\,\n– kino pod gwiazdami (początek około godz. 21.00)\n[button link="http://teatr.grudziadz.pl/wydarzenie/majowka-na-trawie-6/"] NIEDZIELA [/button]
URL:http://teatr.grudziadz.pl/wydarzenie/majowka-na-trawie-5/
CATEGORIES:Plenery
ATTACH;FMTTYPE=image/jpeg:http://teatr.grudziadz.pl/wp-content/uploads/2017/03/plakat-druk-480-x-680-2-e1495790371609.jpg
ORGANIZER;CN="CK%20Teatr%20w%20Grudzi%C4%85dzu":MAILTO:szymon.r@teatr.grudziadz.pl
END:VEVENT
BEGIN:VEVENT
DTSTART;TZID="Europe/Warsaw":20170528T110000
DTEND;TZID="Europe/Warsaw":20170528T150000
DTSTAMP:20260422T072218
CREATED:20170309T091238
LAST-MODIFIED:20170526T092804
UID:7270-1495969200-1495983600@teatr.grudziadz.pl
SUMMARY:Majówka na trawie - Happening z okazji Dnia Dziecka
DESCRIPTION:Podobnie jak w latach poprzednich podczas wielkiej\, grudziądzkiej majówki\, w gąszczu wielu propozycji dla ciała\, ducha i umysłu – niedziela zostaje zarezerwowana dla najmłodszych.\n\nW przeddzień ich święta\, czyli Dnia Dziecka proponujemy spotkać się w samym centrum miasta\, gdzie przy pomocy Teatru „Gry i Ludzie” opowiemy Wam bajkę o „Szewczyku Dratewce”. Nie będzie to typowa opowieść bowiem tym razem\, zanana wszystkim historia toczyć się będzie wokół wielkiego BUTA. Buta\, w którym zmieści się smocza jama\, zakład szewski\, a nawet królewskie komnaty.\n\nTuż przed bajką spróbujemy wszyscy wkręcić się w temat baśni\, a pomoże nam w tym ogromne\, i tu nawiążemy do tradycji poprzednich lat\, kartonowe zamczysko. Wszyscy\, którzy pojawią się w tym dniu na Rynku\, uzbrojeni zostaną w pędzle\, wałki malarskie\, kredki i farby\, a wszystko po to\, aby zamczysko stało się bardziej baśniowe tzn. kolorowe. Dla wszystkich księżniczek i rycerzy przygotowane zostaną też specjalne miejsca\, gdzie można będzie wykonać najprawdziwsze korony.\n\nZatem zapraszamy! Nie będzie nudy\, a dobra zabawa gwarantowana.\n\n„Szewczyk Dratewka” spektakl plenerowy\n\nCzy widzieliście kiedyś taki but\, w którym zmieści się smocza jama\, zakład szewski\, a nawet królewskie komnaty? Pewnego dnia\, przychodzi do szewca posłaniec z królewskiego dworu\, aby odebrać buciki królewny. W międzyczasie jednak zostaje ona porwana przez strasznego i złego smoka. Żadnemu z rycerzy nie udaje się oswobodzić następczyni tronu. Dzielny szewczyk Dratewka podejmuje się zgładzić potwora i uratować królewnę. Czy ta trudna\, wymagająca wielu poświęceń wyprawa zakończy się sukcesem?\n"Niedaleko jest kraina...\,\ntak ta bajka się zaczyna\,\na w krainie\, to rzecz pewna\,\nmieszka król oraz królewna\,\njest też niania i rycerze.\nNo i smok! Okropne zwierzę!\nBajka to całkiem wesoła\, ale kiedy ptak zawoła...\ndziać się zaczną różne dziwy.\nI przybędzie szewc prawdziwy.\nZobaczycie starzy\, młodzi - czemu szewc bez butów chodzi."\nNasze przedstawienie to znana wszystkim opowieść o dzielnym szewczyku\, który swoim sprytem pokonał groźnego smoka i oswobodził królewnę. Ogromnym atutem przestawienia jest stanowiący scenografię\, niebotycznych rozmiarów kolorowy but. Duże wrażenie robią również lalki rozmiarów człowieka\, wykonane z dbałością o szczegóły. W spektaklu usłyszymy także wpadające w ucho piosenki. Zapraszamy\n\nCzas trwania: \n\nokoło 50 minut\n\nAutor: Juliusz Wolski\nReżyseria: Bartosz Socha\, Beata Zawiślak\nScenografia: Alicja Kocurek\nPracownia plastyczna: Maciej Nogieć\, Beniamin Lediński\nMuzyka: Kamil Zawiślak\nKostiumy: Anna Kandziora\nRealizacja światła i dźwięku: Beniamin Lediński\nWystępują: Anna Kandziora/Grzegorz Lamik\, Beata Zawiślak/Ewa Kubiak\, Bartosz Socha\n\nCzas trwania: około 50 minut\n\nO teatrze:  \n\nTeatr Gry i Ludzie powstał w 1997 roku. Od początku istnienia w obszarze zainteresowań zespołu znajdował się zarówno teatr uliczny jak i ten realizowany na tradycyjnych deskach scenicznych. Teatr Gry i Ludzie jest zespołem podróżującym. Swoje spektakle prezentuje w kraju i poza jego granicami. Repertuar teatru stanowią przedstawienia plenerowe\, realizacje sceniczne oraz spektakle dla dzieci.\n\nScena Teatru mieści się w budynku dawnego dworca kolejowego w Katowicach Dąbrówce Małej. Miały tu miejsce między innymi premiery spektakli: „Miłość Fedry” Sarah Kane i „Niezidentyfikowane szczątki ludzkie i prawdziwa natura miłości” Brada Frasera.\n\nZespół tworzą ludzie o różnych korzeniach i doświadczeniach artystycznych. Teatr podejmuje współpracę ze środowiskami związanymi z teatrami instytucjonalnymi oraz innymi teatrami niezależnymi.\n\nTeatr Gry i Ludzie do tej pory przygotował:\nPrzedstawienia plenerowe - "Bolero"\, "Ptasia Parada" (we współpracy z Teatrem Biały Klaun - Ukraina)\, "Lustro"\, "Spacer Aniołów"\, "Śpiący Rycerze" (na otwarcie Uniwersjady w Zakopanem)\, "Ballada o Janie Wnęku"\, "Kuglarze"\, "Facelifting".\nPrzedstawienia dla dzieci - "Morskie opowieści Kapitana Guliwera"\, "Koty Trzy"\, "Takie sobie bajeczki"\, "Opowieści Wagantów"\, "Cyberbajarz"\, "Bajkomat"\, "Ani me\, ani be..."\, "Kot w Butach"\, "Dobry Las"\, "Szewczyk Dratewka".\n\nSwoje spektakle prezentował na festiwalach i podczas innych wydarzeń w wielu miastach Polski od Cieszyna i Wisły przez Łódź po Gdańsk; od Jeleniej Góry\, przez Warszawę po Białystok; od Szczecina po Rzeszów i Przemyśl. Wielokrotnie uczestniczył w Festiwalu "Malta" w Poznaniu i "Sztuka Ulicy" w Warszawie\, a także za granicą na Międzynarodowym Festiwalu Promocji Kultury Europejskiej w Tunezji\n\n \n\n \n\n\n\n\n\n \n\n\n\n\n\n\n\n\n\n
URL:http://teatr.grudziadz.pl/wydarzenie/majowka-na-trawie-6/
CATEGORIES:Plenery
ATTACH;FMTTYPE=image/jpeg:http://teatr.grudziadz.pl/wp-content/uploads/2017/03/szewczk_300.jpg
ORGANIZER;CN="CK%20Teatr%20w%20Grudzi%C4%85dzu":MAILTO:szymon.r@teatr.grudziadz.pl
END:VEVENT
END:VCALENDAR