BEGIN:VCALENDAR
VERSION:2.0
PRODID:-//Centrum Kultury Teatr w Grudziądzu - ECPv4.0.5//NONSGML v1.0//EN
CALSCALE:GREGORIAN
METHOD:PUBLISH
X-WR-CALNAME:Centrum Kultury Teatr w Grudziądzu
X-ORIGINAL-URL:http://teatr.grudziadz.pl
X-WR-CALDESC:Events for Centrum Kultury Teatr w Grudziądzu
BEGIN:VEVENT
DTSTART;TZID="Europe/Warsaw":20170530T103000
DTEND;TZID="Europe/Warsaw":20170530T103000
DTSTAMP:20260422T054853
CREATED:20170313T075724
LAST-MODIFIED:20170526T053832
UID:7304-1496140200-1496140200@teatr.grudziadz.pl
SUMMARY:II LO – rozdanie świadectw
DESCRIPTION:impreza zamknięta
URL:http://teatr.grudziadz.pl/wydarzenie/ii-lo-rozdanie-swiadectw/
LOCATION:Teatralna\, 1\, Grudziądz\, 86-300\, Polska
CATEGORIES:Wynajem
ORGANIZER;CN="II%20Liceum%20Og%C3%B3lnokszta%C5%82c%C4%85ce":MAILTO:dyrektor@lo2.grudziadz.pl
END:VEVENT
END:VCALENDAR