BEGIN:VCALENDAR
VERSION:2.0
PRODID:-//Centrum Kultury Teatr w Grudziądzu - ECPv4.0.5//NONSGML v1.0//EN
CALSCALE:GREGORIAN
METHOD:PUBLISH
X-WR-CALNAME:Centrum Kultury Teatr w Grudziądzu
X-ORIGINAL-URL:http://teatr.grudziadz.pl
X-WR-CALDESC:Events for Centrum Kultury Teatr w Grudziądzu
BEGIN:VEVENT
DTSTART;TZID="Europe/Warsaw":20170606T100000
DTEND;TZID="Europe/Warsaw":20170606T150000
DTSTAMP:20260422T054854
CREATED:20170313T081037
LAST-MODIFIED:20170529T095351
UID:7306-1496743200-1496761200@teatr.grudziadz.pl
SUMMARY:Przegląd teatralny "Czas na talent"
DESCRIPTION:impreza zamknięta
URL:http://teatr.grudziadz.pl/wydarzenie/przeglad-teatralny-szkola-w-wegrowie/
LOCATION:ul. Wybickiego 38
CATEGORIES:Wynajem
ORGANIZER;CN="CK%20Teatr%20w%20Grudzi%C4%85dzu":MAILTO:ewelina@teatr.grudziadz.pl
END:VEVENT
END:VCALENDAR