BEGIN:VCALENDAR
VERSION:2.0
PRODID:-//Centrum Kultury Teatr w Grudziądzu - ECPv4.0.5//NONSGML v1.0//EN
CALSCALE:GREGORIAN
METHOD:PUBLISH
X-WR-CALNAME:Centrum Kultury Teatr w Grudziądzu
X-ORIGINAL-URL:http://teatr.grudziadz.pl
X-WR-CALDESC:Events for Centrum Kultury Teatr w Grudziądzu
BEGIN:VEVENT
DTSTART;TZID="Europe/Warsaw":20171109T090000
DTEND;TZID="Europe/Warsaw":20171109T090000
DTSTAMP:20260421T221302
CREATED:20171017T132010
LAST-MODIFIED:20171026T050956
UID:9709-1510218000-1510218000@teatr.grudziadz.pl
SUMMARY:Dreptaczek „Jaś i Małgosia” – Teatr Wędrowny CK Teatr
DESCRIPTION:\n\n\nPremiera:1 XII 2013Reżyseria: Zbigniew KulwickiScenografia\, kostiumy: Ryszard Belka i Marianna Gitner-SawistowskaMuzyka: Piotr Jan Ulatowski\nObsada: Jaś: Adrian WiśniewskiMałgosia: Karolina SuchodolskaOjciec: Zbigniew Kulwicki\nCzas trwania spektaklu:45 minut (bez przerw)\n\n\n\n\n\n\n\nZ misją edukacyjną wyrusza w bajkową podróż do przedszkolaków oraz najmłodszych uczniów szkół podstawowych Teatr Wędrowny DREPTACZEK. Jest to najnowsza sceniczna propozycja Centrum Kultury Teatr adresowana do wrażliwości najmłodszych widzów. Pierwszym przedstawieniem „Dreptaczka” jest „Jaś i Małgosia”.\nJaś i Małgosia w tajemnicy przed ojcem wybierają się do lasu po urodzinowy prezent dla niego. Zaskoczone przez burzę rodzeństwo gubi w lesie powrotną drogę do domu. Co było dalej? Wiadomo! Zła czarownica itd. A może było inaczej? Historia Jasia i Małgosi jest powszechnie znana\, co nie oznacza\, że grudziądzka adaptacja bajki nie będzie zaskakiwać.\n\n\n\n
URL:http://teatr.grudziadz.pl/wydarzenie/dreptaczek-jas-i-malgosia-teatr-wedrowny-ck-teatr-11/
LOCATION:ul. Wybickiego 38
CATEGORIES:Spektakle
ATTACH;FMTTYPE=image/jpeg:http://teatr.grudziadz.pl/wp-content/uploads/2016/01/5-20.jpg
ORGANIZER;CN="CK%20Teatr%20w%20Grudzi%C4%85dzu":MAILTO:ewelina@teatr.grudziadz.pl
END:VEVENT
BEGIN:VEVENT
DTSTART;TZID="Europe/Warsaw":20171109T110000
DTEND;TZID="Europe/Warsaw":20171109T110000
DTSTAMP:20260421T221302
CREATED:20171017T132041
LAST-MODIFIED:20171026T050939
UID:9710-1510225200-1510225200@teatr.grudziadz.pl
SUMMARY:Dreptaczek „Jaś i Małgosia” – Teatr Wędrowny CK Teatr
DESCRIPTION:\n\n\nPremiera:1 XII 2013Reżyseria: Zbigniew KulwickiScenografia\, kostiumy: Ryszard Belka i Marianna Gitner-SawistowskaMuzyka: Piotr Jan Ulatowski\nObsada: Jaś: Adrian WiśniewskiMałgosia: Karolina SuchodolskaOjciec: Zbigniew Kulwicki\nCzas trwania spektaklu:45 minut (bez przerw)\n\n\n\n\n\n\n\nZ misją edukacyjną wyrusza w bajkową podróż do przedszkolaków oraz najmłodszych uczniów szkół podstawowych Teatr Wędrowny DREPTACZEK. Jest to najnowsza sceniczna propozycja Centrum Kultury Teatr adresowana do wrażliwości najmłodszych widzów. Pierwszym przedstawieniem „Dreptaczka” jest „Jaś i Małgosia”.\nJaś i Małgosia w tajemnicy przed ojcem wybierają się do lasu po urodzinowy prezent dla niego. Zaskoczone przez burzę rodzeństwo gubi w lesie powrotną drogę do domu. Co było dalej? Wiadomo! Zła czarownica itd. A może było inaczej? Historia Jasia i Małgosi jest powszechnie znana\, co nie oznacza\, że grudziądzka adaptacja bajki nie będzie zaskakiwać.\n\n\n\n
URL:http://teatr.grudziadz.pl/wydarzenie/dreptaczek-jas-i-malgosia-teatr-wedrowny-ck-teatr-12/
LOCATION:ul. Wybickiego 38
CATEGORIES:Spektakle
ATTACH;FMTTYPE=image/jpeg:http://teatr.grudziadz.pl/wp-content/uploads/2016/01/5-20.jpg
ORGANIZER;CN="CK%20Teatr%20w%20Grudzi%C4%85dzu":MAILTO:ewelina@teatr.grudziadz.pl
END:VEVENT
BEGIN:VEVENT
DTSTART;TZID="Europe/Warsaw":20171109T180000
DTEND;TZID="Europe/Warsaw":20171109T190000
DTSTAMP:20260421T221302
CREATED:20171016T053246
LAST-MODIFIED:20171026T054423
UID:9608-1510250400-1510254000@teatr.grudziadz.pl
SUMMARY:Grzegorz Henryk Rygielski – rysunek
DESCRIPTION:Były wojewódzki metodyk plastyki. Emeryt. Uczył w grudziądzkich Szkołach Podstawowych i w Ostrowitem koło Jabłonowa\, a także w Katolickim Liceum Ogólnokształcącym w Grudziądzu. Jest członkiem Polskiego Stowarzyszenia Edukacji Plastycznej. Uprawia malarstwo sztalugowe\, rysunek i grafikę\, projektuje także medale.\n\n\n\nW jego twórczości inspirowanej naturą przeważają pejzaże malowane w plenerze lub na podstawie szkiców. Od 1975 roku należy też do Nauczycielskiej Grupy Twórczej NaGruT przy Grudziądzkim oddziale ZNP. Uczestniczył w wielu plenerach i spotkaniach twórczych. Jest też autorem rysunków zamieszczanych w Kalendarzu Grudziądzkim. Swoje prace prezentował na wystawach indywidualnych w Grudziądzu /1977r.\, 1986r./oraz zbiorowych w Bydgoszczy/1971r./\, Krakowie/1973r.\, 1983r.\, 1986r.\, 1988r.\, 1990r.\, 1993r.\, 1996./\, Toruniu /1986r.\, 1988-1989r./ Brodnicy /1984r./\, Augustowie /1989r.\, 1991-1992r./\, Grudziądzu /1971-1973r.\, 1981r.\, 1986-1995r.\, 2000r./\, Limanowej /1987r./\, Zamościu /1995r.\, 1998r./\, Przytoku /1996-1997r./\, Warszawie /1991r.\, 1993r./\, Lublinie /1993r.\, 1998r.. 2000r./\, Supraślu /2000r./\, Gutersloh /1992r./.\n\nOtrzymał III nagrodę w konkursie "Grudziądz i jego okolice" /1971r./\, I nagrodę za obraz olejny na Ogólnopolskiej Wystawie Poplenerowej Nauczycieli w Zamościu\, 1995r./ i II nagrodę w dziedzinie malarstwa na V Ogólnopolskim Biennale Twórczości Plastycznej Nauczycieli w Lublinie /2000r./. Jego prace znajdują się w kolekcjach prywatnych w kraju i za granicą.\n\n
URL:http://teatr.grudziadz.pl/wydarzenie/grzegorz-henryk-rygielski-rysunek/
LOCATION:ul. Wybickiego 38
CATEGORIES:Wystawy
ATTACH;FMTTYPE=image/jpeg:http://teatr.grudziadz.pl/wp-content/uploads/2017/10/Grzegorz-Rygielski-Medium-2.jpg
ORGANIZER;CN="CK%20Teatr%20w%20Grudzi%C4%85dzu":MAILTO:szymon.r@teatr.grudziadz.pl
END:VEVENT
END:VCALENDAR