BEGIN:VCALENDAR
VERSION:2.0
PRODID:-//Centrum Kultury Teatr w Grudziądzu - ECPv4.0.5//NONSGML v1.0//EN
CALSCALE:GREGORIAN
METHOD:PUBLISH
X-WR-CALNAME:Centrum Kultury Teatr w Grudziądzu
X-ORIGINAL-URL:http://teatr.grudziadz.pl
X-WR-CALDESC:Events for Centrum Kultury Teatr w Grudziądzu
BEGIN:VEVENT
DTSTART;TZID="Europe/Warsaw":20180119T090000
DTEND;TZID="Europe/Warsaw":20180119T090000
DTSTAMP:20260421T191126
CREATED:20171201T102543
LAST-MODIFIED:20180111T130959
UID:10178-1516352400-1516352400@teatr.grudziadz.pl
SUMMARY:"Opowieść wigilijna" - Spektakl dla dzieci
DESCRIPTION:Musi być dobro\, żeby mógł zadziałać strach\n\nEbenezer Scrooge stał się\, za sprawą Charlesa Dickensa\, archetypiczną postacią skupiającą w sobie cały katalog ludzkich wad. Skąpstwo\, egoizm\, wyniosłość\, nieczułość\, zgryźliwość… Rzecz jasna nie lubimy tego okropnego jegomościa\, ale skoro dickensonowski dziewiętnastowieczny moralitet zupełnie się nie starzeje\, a filmowi i teatralni reżyserzy ciągle czerpią natchnienie z „Opowieści wigilijnej”\, musi być coś więcej w tej historii\, niż tylko naiwna wiara\, że czyste zło może zmienić się w ckliwe dobro.\n\nMoże w Ebenezerze każdy jednak odnajduje jakąś cząstkę swoich ułomności? Może potrzebujemy przestróg\, że to my panujemy nad splotem naszych życiowych wydarzeń i przeszłość\, teraźniejszość oraz przyszłość to nic innego\, jak tylko obraz konsekwencji naszych decyzji? Czy ostatecznie będzie to obraz złowieszczy\, czy radosny?\n\nZapewne żadnego z nas nie odwiedzą duchy nocy wigilijnej\, ale za to dawno temu Charles Dickens zostawił swoje powieści. Wśród nich również tę o starym\, zrzędliwym skąpcu. Każdy mądry człowiek może w tej powieści dopatrzyć się swoich zjaw przybywających z przestrogami. Bo do samego końca można wszystko przegrać i wszystko wygrać. Zbigniew Kulwicki\, reżyserujący „Opowieść wigilijną” na scenie grudziądzkiego teatru\, uważnie wpatruje się w psychologiczny portret Scrooge`a i chce w nim dostrzec jakieś dobro jeszcze przed „nawróceniem ze strachu”. Bo może strach nie byłby wystarczająco silny\, gdyby w złej duszy jednak nie mieszkało dobro?\n\nSerdecznie zapraszamy na najnowszy spektakl Centrum Kultury Teatr w Grudziądzu!
URL:http://teatr.grudziadz.pl/wydarzenie/koncerty-dla-mlodziezy-sekrety-pieknego-spiewu-5/
LOCATION:ul. Anny Walentynowicz\, Grudziądz\, Polska
CATEGORIES:Koncert
ORGANIZER;CN="CK%20Teatr%20w%20Grudzi%C4%85dzu":MAILTO:ewelina@teatr.grudziadz.pl
END:VEVENT
BEGIN:VEVENT
DTSTART;TZID="Europe/Warsaw":20180119T110000
DTEND;TZID="Europe/Warsaw":20180119T110000
DTSTAMP:20260421T191126
CREATED:20171201T102619
LAST-MODIFIED:20180111T130930
UID:10179-1516359600-1516359600@teatr.grudziadz.pl
SUMMARY:"Opowieść wigilijna" - Spektakl dla dzieci
DESCRIPTION:Musi być dobro\, żeby mógł zadziałać strach\n\nEbenezer Scrooge stał się\, za sprawą Charlesa Dickensa\, archetypiczną postacią skupiającą w sobie cały katalog ludzkich wad. Skąpstwo\, egoizm\, wyniosłość\, nieczułość\, zgryźliwość… Rzecz jasna nie lubimy tego okropnego jegomościa\, ale skoro dickensonowski dziewiętnastowieczny moralitet zupełnie się nie starzeje\, a filmowi i teatralni reżyserzy ciągle czerpią natchnienie z „Opowieści wigilijnej”\, musi być coś więcej w tej historii\, niż tylko naiwna wiara\, że czyste zło może zmienić się w ckliwe dobro.\n\nMoże w Ebenezerze każdy jednak odnajduje jakąś cząstkę swoich ułomności? Może potrzebujemy przestróg\, że to my panujemy nad splotem naszych życiowych wydarzeń i przeszłość\, teraźniejszość oraz przyszłość to nic innego\, jak tylko obraz konsekwencji naszych decyzji? Czy ostatecznie będzie to obraz złowieszczy\, czy radosny?\n\nZapewne żadnego z nas nie odwiedzą duchy nocy wigilijnej\, ale za to dawno temu Charles Dickens zostawił swoje powieści. Wśród nich również tę o starym\, zrzędliwym skąpcu. Każdy mądry człowiek może w tej powieści dopatrzyć się swoich zjaw przybywających z przestrogami. Bo do samego końca można wszystko przegrać i wszystko wygrać. Zbigniew Kulwicki\, reżyserujący „Opowieść wigilijną” na scenie grudziądzkiego teatru\, uważnie wpatruje się w psychologiczny portret Scrooge`a i chce w nim dostrzec jakieś dobro jeszcze przed „nawróceniem ze strachu”. Bo może strach nie byłby wystarczająco silny\, gdyby w złej duszy jednak nie mieszkało dobro?\n\nSerdecznie zapraszamy na najnowszy spektakl Centrum Kultury Teatr w Grudziądzu!
URL:http://teatr.grudziadz.pl/wydarzenie/koncerty-dla-mlodziezy-sekrety-pieknego-spiewu-6/
LOCATION:ul. Anny Walentynowicz\, Grudziądz\, Polska
CATEGORIES:Koncert
ORGANIZER;CN="CK%20Teatr%20w%20Grudzi%C4%85dzu":MAILTO:ewelina@teatr.grudziadz.pl
END:VEVENT
BEGIN:VEVENT
DTSTART;TZID="Europe/Warsaw":20180119T180000
DTEND;TZID="Europe/Warsaw":20180119T180000
DTSTAMP:20260421T191126
CREATED:20171218T131348
LAST-MODIFIED:20180111T130815
UID:10392-1516384800-1516384800@teatr.grudziadz.pl
SUMMARY:„Opowieść wigilijna” - spektakle dla dzieci
DESCRIPTION:Musi być dobro\, żeby mógł zadziałać strach\n\nEbenezer Scrooge stał się\, za sprawą Charlesa Dickensa\, archetypiczną postacią skupiającą w sobie cały katalog ludzkich wad. Skąpstwo\, egoizm\, wyniosłość\, nieczułość\, zgryźliwość… Rzecz jasna nie lubimy tego okropnego jegomościa\, ale skoro dickensonowski dziewiętnastowieczny moralitet zupełnie się nie starzeje\, a filmowi i teatralni reżyserzy ciągle czerpią natchnienie z „Opowieści wigilijnej”\, musi być coś więcej w tej historii\, niż tylko naiwna wiara\, że czyste zło może zmienić się w ckliwe dobro.\n\nMoże w Ebenezerze każdy jednak odnajduje jakąś cząstkę swoich ułomności? Może potrzebujemy przestróg\, że to my panujemy nad splotem naszych życiowych wydarzeń i przeszłość\, teraźniejszość oraz przyszłość to nic innego\, jak tylko obraz konsekwencji naszych decyzji? Czy ostatecznie będzie to obraz złowieszczy\, czy radosny?\n\nZapewne żadnego z nas nie odwiedzą duchy nocy wigilijnej\, ale za to dawno temu Charles Dickens zostawił swoje powieści. Wśród nich również tę o starym\, zrzędliwym skąpcu. Każdy mądry człowiek może w tej powieści dopatrzyć się swoich zjaw przybywających z przestrogami. Bo do samego końca można wszystko przegrać i wszystko wygrać. Zbigniew Kulwicki\, reżyserujący „Opowieść wigilijną” na scenie grudziądzkiego teatru\, uważnie wpatruje się w psychologiczny portret Scrooge`a i chce w nim dostrzec jakieś dobro jeszcze przed „nawróceniem ze strachu”. Bo może strach nie byłby wystarczająco silny\, gdyby w złej duszy jednak nie mieszkało dobro?\n\nSerdecznie zapraszamy na najnowszy spektakl Centrum Kultury Teatr w Grudziądzu!
URL:http://teatr.grudziadz.pl/wydarzenie/opowiesc-wigilijna-spektakle-dla-dzieci-17/
LOCATION:ul. Anny Walentynowicz\, Grudziądz\, Polska
CATEGORIES:Spektakle
ORGANIZER;CN="CK%20Teatr%20w%20Grudzi%C4%85dzu":MAILTO:oliwia@teatr.grudziadz.pl
END:VEVENT
BEGIN:VEVENT
DTSTART;TZID="Europe/Warsaw":20180119T193000
DTEND;TZID="Europe/Warsaw":20180119T193000
DTSTAMP:20260421T191126
CREATED:20171026T081101
LAST-MODIFIED:20180104T095712
UID:9826-1516390200-1516390200@teatr.grudziadz.pl
SUMMARY:Stand up – wieczór komediowy
DESCRIPTION:\n\nKarol Kopiec\n\nImprowizator\, komik posługujący się w dużej mierze językiem abstrakcji. Jego występy to unikatowa podróż przez multiwers skojarzeń\, odniesień i galaktyki wyobraźni. Miłośnik fauny i flory\, najbardziej lubi leżeć na mchu. Mieszka na wsi pod Warszawą\, ale lubi miejskie klimaty. Jak nikt inny rozumie psychologię poruszania się po rondzie. Na scenie od 2008 roku. "Czarnol4s" to nowy program Karola Kopca\, w którym podejmuje się tematów sexu czy kościoła w Polsce ze specyficzną dla siebie lekkością wchodzenia w świat abstrakcyjny. Nie zabraknie więc przy tym tematów o zwierzętach i owadach. Ta z pozoru nie łącząca się mieszanka przepleciona zostanie niewidzialną siecią połączeń i skojarzeń.\n\n \n\n \n\nArkadiusz Jaksa Jakszewicz\n\nRudowłosy i bardziej rudobrody komik z warmińskiego grodu Lidzbark. Miłośnik historii... zabawnych historii. Niedzielny rycerz. 90 kilogramowy leniwiec. W życiu czuje się\, jak ryba w kosmosie. Zwinna postać o niezgrabnych ruchach i otwartym na oścież umyśle. Nie wiadomo co tam do głowy wleci\, ale zostaje na porządne kilka minut. Obserwator cudzego życia\, animator swojego. Lubi zapiekanki\, cebulę i topory. Oczywiście to spokojny człowiek\, ale jego zdolności oratorskie i zamiłowanie do kaszkietów zaprowadziło go na barykady niejednej rewolucji. Gada z ludźmi\, zwierzętami i sobą. Element grupki Stand-up Warmia z Olsztyna.\n\n 
URL:http://teatr.grudziadz.pl/wydarzenie/stand-up-wieczor-komediowy-10/
LOCATION:ul. Wybickiego 38
CATEGORIES:Koncert
ATTACH;FMTTYPE=image/jpeg:http://teatr.grudziadz.pl/wp-content/uploads/2017/10/Jaksa-2-Medium-2.jpg
ORGANIZER;CN="CK%20Teatr%20w%20Grudzi%C4%85dzu":MAILTO:ewelina@teatr.grudziadz.pl
END:VEVENT
END:VCALENDAR