BEGIN:VCALENDAR
VERSION:2.0
PRODID:-//Centrum Kultury Teatr w Grudziądzu - ECPv4.0.5//NONSGML v1.0//EN
CALSCALE:GREGORIAN
METHOD:PUBLISH
X-WR-CALNAME:Centrum Kultury Teatr w Grudziądzu
X-ORIGINAL-URL:http://teatr.grudziadz.pl
X-WR-CALDESC:Events for Centrum Kultury Teatr w Grudziądzu
BEGIN:VEVENT
DTSTART;TZID="Europe/Warsaw":20180318T180000
DTEND;TZID="Europe/Warsaw":20180318T180000
DTSTAMP:20260421T155400
CREATED:20180212T132519
LAST-MODIFIED:20180313T184044
UID:11119-1521396000-1521396000@teatr.grudziadz.pl
SUMMARY:Muza zalewa miasto QUEBONAFIDE
DESCRIPTION:Quebonafide to pochodzący z Ciechanowa raper oraz założyciel wytwórni płytowej QueQuality. Jego twórczość charakteryzuje się świeżym spojrzeniem na rap\, niekonwencjonalnym i często eksperymentalnym flow\, dopracowaną techniką rymowania\, a wszystko to z zachowaniem refleksyjności tekstów. Te cechy łączy w sobie 'Ezoteryka' – debiutancki album artysty pokrył się złotem już w pre-orderze\, a po kilku miesiącach osiągnął status platynowej płyty.\n\n\n\nPo wydaniu 'Ezoteryki' Quebonafide wraz z Wesołą Ekipą (KrzyKrzysztof oraz DJ Myszka) zagrali blisko 200 koncertów w Polsce I za granicą. Widowiskowe i energetyczne show stały się wizytówką rapera.\n\nPrzez blisko 2 lata Quebonafide pracował nad nowym albumem. Inspiracją do kolejnych nagrań stały się dalekie podróże. Odwiedził m.in. Japonię\, RPA\, Meksyk\, Tajlandię\, Islandię\, USA czy Australię. Efektem przemyśleń i podróżniczych doświadczeń jest album 'Egzotyka'\, który ukazał się nakładem QueQuality w dniu 9 czerwca 2017 roku. Jeszcze przed premierą osiągnął status platynowej płyty. W ostatnim okresie prac nad 'Egzotyką' Quebonafide przygotował dwa projekty w formie EP\, oraz DVD ze wszystkimi teledyskami do płyty\, jako podziękowanie i prezent dla fanów zamawiających album w preorderze. Jest to zabieg bez precedensu.\n\n\n\nRaper nadal poszerza swoje horyzonty muzyczne. Nawiązuje współpracę z zagranicznymi wykonawcami\, jak np. Sfera Ebbasta. W planach są kolejne podróże\, kolejne nagrania i kolejne zaskakujące akcje artystyczne.\n\nWięcej na:\n\nhttp://teatr.grudziadz.pl/muzazalewamiasto\n\n  \n\n 
URL:http://teatr.grudziadz.pl/wydarzenie/muza-zalewa-miasto-quebonafide/
LOCATION:ul. Wybickiego 38
CATEGORIES:Koncert
ATTACH;FMTTYPE=image/jpeg:http://teatr.grudziadz.pl/wp-content/uploads/2018/02/DSC_4691-2-1-e1518097992829.jpg
ORGANIZER;CN="CK%20Teatr%20w%20Grudzi%C4%85dzu":MAILTO:oliwia@teatr.grudziadz.pl
END:VEVENT
END:VCALENDAR