BEGIN:VCALENDAR
VERSION:2.0
PRODID:-//Centrum Kultury Teatr w Grudziądzu - ECPv4.0.5//NONSGML v1.0//EN
CALSCALE:GREGORIAN
METHOD:PUBLISH
X-WR-CALNAME:Centrum Kultury Teatr w Grudziądzu
X-ORIGINAL-URL:http://teatr.grudziadz.pl
X-WR-CALDESC:Events for Centrum Kultury Teatr w Grudziądzu
BEGIN:VEVENT
DTSTART;TZID="Europe/Warsaw":20180323T190000
DTEND;TZID="Europe/Warsaw":20180323T190000
DTSTAMP:20260421T155401
CREATED:20171026T094657
LAST-MODIFIED:20180319T092739
UID:9846-1521831600-1521831600@teatr.grudziadz.pl
SUMMARY:„Z rockiem przez młodość” - koncert podopiecznych Ogniska Pracy Pozaszkolnej
DESCRIPTION:VII edycja Z rockiem przez młodość zabierze słuchaczy do świata piosenek\, do których słowa pisał Jacek Cygan. Zabrzmią największe hity\, takie jak: To nie ja\, Black and White czy Rytm i melodia. Zagrają i zaśpiewają podopieczni pracowni muzycznej Macieja Gburczyka z Ogniska pracy Pozaszkolnej oraz uczniowie Szkoły Podstawowej Grudziądz-Węgrowo.\n\nW roli gości wystąpią zespoły One Dream i Monolith z Gminnego Ośrodka Kultury w Małym Rudniku pod opieką Daniela Grzybowskiego.\n\n  
URL:http://teatr.grudziadz.pl/wydarzenie/z-rockiem-przez-mlodosc-koncert-podopiecznych-ogniska-pracy-pozaszkolnej/
LOCATION:ul. Wybickiego 38
CATEGORIES:Koncert
ATTACH;FMTTYPE=image/jpeg:http://teatr.grudziadz.pl/wp-content/uploads/2017/10/fot_pb_001-2-e1521445320394.jpg
ORGANIZER;CN="CK%20Teatr%20w%20Grudzi%C4%85dzu":MAILTO:ewelina@teatr.grudziadz.pl
END:VEVENT
END:VCALENDAR