BEGIN:VCALENDAR
VERSION:2.0
PRODID:-//Centrum Kultury Teatr w Grudziądzu - ECPv4.0.5//NONSGML v1.0//EN
CALSCALE:GREGORIAN
METHOD:PUBLISH
X-WR-CALNAME:Centrum Kultury Teatr w Grudziądzu
X-ORIGINAL-URL:http://teatr.grudziadz.pl
X-WR-CALDESC:Events for Centrum Kultury Teatr w Grudziądzu
BEGIN:VEVENT
DTSTART;TZID="Europe/Warsaw":20180324T190000
DTEND;TZID="Europe/Warsaw":20180324T190000
DTSTAMP:20260421T155347
CREATED:20171026T094808
LAST-MODIFIED:20180319T101937
UID:9847-1521918000-1521918000@teatr.grudziadz.pl
SUMMARY:GWT 2018 - inauguracja - "Lilka\, cud miłości"
DESCRIPTION:Scenariusz i reżyseria: Waldemar Śmigasiewicz \nScenografia i kostiumy: Tatiana Kwiatkowska \nMuzyka: Urszula Borkowska \n \nObsada:\nPaulina HOLTZ\, Krystyna TKACZ\, Magdalena ZAWADZKA\, Joanna ŻÓŁKOWSKA \nGłos dziecka: Antonina Nowakowska \nPremiera warszawska: Teatr Polski im. Arnolda Szyfmana w Warszawie w ramach cyklu „Goście w Polskim” | 23 listopada 2015 r.\n\n\n\nOPIS \n\n„Lilka\, cud miłości” to portret zakochanej kobiety odgrywany przez cztery znakomite aktorki – Paulinę Holtz\, Krystynę Tkacz\, Magdalenę Zawadzką\, Joannę Żółkowską. Spektakl od ponad roku podbija serca widzów w całej Polsce. Nie brakuje tu ślubów i zdrad\, humoru i tęsknoty\, pasji i rozczarowań.\n\nAktorki zabierają publiczność we wciągającą podróż przez życie Marii Pawlikowskiej-Jasnorzewskiej. Scena zamienia się we wręcz filmowe ujęcia opowieści o tajemnicy miłości. A jeśli miłość\, to wielka i namiętna\, zakończona ślubem na Wawelu\, z biciem w dzwony i piękną suknią i z orszakiem wspaniałych gości!\n\n\n\nŚlub… A właściwe trzy śluby! Ale zawsze ze wspaniałym mężczyzną\, który spełnić ma największe marzenia i pragnienia. Są i zdrady i są tęsknoty i jest stawianie wróżb z kart\, a także… wywoływanie duchów. Szczypta ironii\, oczywiście na temat mężczyzn\, no i ta rodzina…\n\nScenariusz powstał na podstawie wspomnień „poetki miłości”\, Marii Pawlikowskiej-Jasnorzewskiej\, nazywanej zdrobniale Lilką.\n\n \n\n \n\n 
URL:http://teatr.grudziadz.pl/wydarzenie/grudziadzka-wiosna-teatralna-inauguracja/
LOCATION:ul. Wybickiego 38
CATEGORIES:Grudziądzka Wiosna Teatralna,Spektakle
ATTACH;FMTTYPE=image/jpeg:http://teatr.grudziadz.pl/wp-content/uploads/2017/10/01-8-e1516792230310.jpg
ORGANIZER;CN="CK%20Teatr%20w%20Grudzi%C4%85dzu":MAILTO:ewelina@teatr.grudziadz.pl
END:VEVENT
END:VCALENDAR