BEGIN:VCALENDAR
VERSION:2.0
PRODID:-//Centrum Kultury Teatr w Grudziądzu - ECPv4.0.5//NONSGML v1.0//EN
CALSCALE:GREGORIAN
METHOD:PUBLISH
X-WR-CALNAME:Centrum Kultury Teatr w Grudziądzu
X-ORIGINAL-URL:http://teatr.grudziadz.pl
X-WR-CALDESC:Events for Centrum Kultury Teatr w Grudziądzu
BEGIN:VEVENT
DTSTART;TZID="Europe/Warsaw":20180406T200000
DTEND;TZID="Europe/Warsaw":20180406T200000
DTSTAMP:20260421T143228
CREATED:20171026T100259
LAST-MODIFIED:20180405T092302
UID:9855-1523044800-1523044800@teatr.grudziadz.pl
SUMMARY:Kabanos – koncert
DESCRIPTION:Wszystko zaczęło się od żulerskich piosenek nagrywanych w 1997 roku na podkładach na magnetofon Kasprzak\, a na przestrzeni lat ewoluowało w prawdziwą petardę polskiej sceny muzycznej. Od samego początku grupa rozwijała się samodzielnie i niezależnie\, przez lata zdobywając coraz większą publiczność - na wyjazdach w coraz dłuższe trasy i coraz większe kluby. Każda płyta\, poczynając od wydanej własnym sumptem albumu "Zęby w Ścianę" w 2007 roku to kolejny etap ewolucji\, która wydaje się nie mieć końca. Na najnowszym albumie "Dramat Współczesny" Kabanos pokazuje większą dojrzałość w formie i przekazie\, nowe brzmienie\, surowość i ciężkość połączoną z umiejętnością do pisania chwytliwych piosenek\, z których słynie grupa. To także pierwszy album\, na którym pojawiają się ciężkie ballady i rozbudowane\, progresywne wręcz kompozycje.\n\n\n\nZespół trzykrotnie zagrał na Przystanku WOODSTOCK\, grając kolejno na Małej Scenie (2012 - po tym występie zespół zdobył nagrodę ZŁOTEGO BĄCZKA)\, na Dużej Scenie (2013)\, oraz w Pokojowej Wiosce Kryszny (2014)\, gdzie Kabanos ustalił nowy rekord długości koncertu sceny: 2h 55min. Był to jednocześnie najdłuższy występ Kabanosa w historii.\n\n
URL:http://teatr.grudziadz.pl/wydarzenie/kabanos-koncert/
LOCATION:ul. Wybickiego 38
CATEGORIES:Koncert
ATTACH;FMTTYPE=image/jpeg:http://teatr.grudziadz.pl/wp-content/uploads/2017/10/Kabanos-1-2.jpg
ORGANIZER;CN="CK%20Teatr%20w%20Grudzi%C4%85dzu":MAILTO:ewelina@teatr.grudziadz.pl
END:VEVENT
END:VCALENDAR