BEGIN:VCALENDAR
VERSION:2.0
PRODID:-//Centrum Kultury Teatr w Grudziądzu - ECPv4.0.5//NONSGML v1.0//EN
CALSCALE:GREGORIAN
METHOD:PUBLISH
X-WR-CALNAME:Centrum Kultury Teatr w Grudziądzu
X-ORIGINAL-URL:http://teatr.grudziadz.pl
X-WR-CALDESC:Events for Centrum Kultury Teatr w Grudziądzu
BEGIN:VEVENT
DTSTART;TZID="Europe/Warsaw":20180408T120000
DTEND;TZID="Europe/Warsaw":20180408T120000
DTSTAMP:20260421T143126
CREATED:20171026T101310
LAST-MODIFIED:20180404T064603
UID:9858-1523188800-1523188800@teatr.grudziadz.pl
SUMMARY:Koncert Niedzielny Duety na dwoje skrzypiec oraz na skrzypce z akordeonem
DESCRIPTION:Program koncertu:\n\nDuety na dwoje skrzypiec  -  I część koncertu\n\n\tG.F.Telemann - Sonata w formie kanonu\n\tFiocco - Allegro  arr. Scott Staidle\n\tJ. Haydn - Serenada  arr. Scott Staidle\n\tI.Pleyel - Duet C-dur z Op. 24\n\tJ.Młodziejowski - Sonata na dwoje skrzypiec\n\nDuety na skrzypce i akordeon   -   II część koncertu\n\n\tAstor Piazzolla "Street Tango"\n\tAstor Piazzolla "Oblivion"\n\tBela Bartok "Tańce Rumuńskie”\n\tAstor Piazzolla "Libertango"\n\tWiktor Gubanow "Walc"  (akordeon solo)\n\tAstor Piazzolla "La Muerte del Angel"\n\nEdyta Wolańska -  ukończyła z wyróżnieniem Akademię Sztuki w Szczecinie w klasie skrzypiec Prof. Henryka Tritta. Obecnie jest zatrudniona na stanowisku asystenta wykładowcy w tejże uczelni. W swoim dorobku ma współpracę z wybitnymi artystami takimi jak: Shlomo Mintz. Jozsef Lendvay\, Henryk Tritt\, Jan Stanienda\, Tomasz Tomaszewski czy Daniel Stabrawa. Działalność artystyczną zaczęła rozwijać już od najmłodszych lat. W latach 1999\, 2000\, 2001 była laureatką Ogólnopolskiego Przeglądu Młodych Skrzypków w Bystrzycy Kłodzkiej\, a w 2002 roku była finalistką Ogólnopolskiego Konkursu Skrzypcowego im. Grażyny Bacewicz we Wrocławiu. W 2008 roku została laureatką Makroregionalnych Przesłuchań klas skrzypiec w Elblądu. Jednym z jej ostatnich osiągnięć jest III nagroda w konkursie „Concorso Musicale Europeo Citta' di Filadelfia" we Włoszech (maj 2015).\n\nOd października 2012 pracuje w Filharmonii Szczecińskiej pełniąc funkcję muzyka solisty grupy pierwszych skrzypiec\, a od roku 2014 roku jest koncertmistrzem Szczecińskiej Młodzieżowej Orkiestry Kameralnej.\n\nOleg Wolański urodził się w miejscowości Rychcice na Ukrainie. Naukę gry na akordeonie rozpoczął w szkole muzycznej w Drohobyczu. Ukończył z wynikiem celującym studia w Narodowej Akademii Ukrainy im. Piotra Czajkowskiego w Kijowie\, a w listopadzie 2015 r. otrzymał tytuł aspiranta tejże uczelni. Od najmłodszych lat zdobywał liczne nagrody w konkursach krajowych i międzynarodowych\, m.in. na Łotwie\, Ukrainie i we Włoszech. W 2011 r. otrzymał Grand Prix międzynarodowego konkursu Erbeco we Włoszech oraz główną nagrodę - akordeon marki Cooperfisa. Jako solista i kameralista wykonał liczne koncerty na scenach międzynarodowych. Jednym z bardziej prestiżowych był występ w Teatrze im. Antonio Salieriego w Legnago (Włochy) w 2012 roku. W styczniu 2016 r. obok Ewy Małas Godlewskiej wystąpił w charakterze solisty z Orkiestrą Filharmonii im. Mieczysława Karłowicza w Szczecinie.\n\nHenryk Tritt\, skrzypek i dyrygent\, profesor doktor habilitowany\, profesor zwyczajny Akademii Sztuki w Szczecinie\, w latach 2010 – 16 kierownik Katedry Instrumentów Smyczkowych tejże uczelni. Wykładowca Akademii Muzycznej we Wrocławiu i Łodzi. Koncertmistrz i solista Orkiestry Kameralnej PRiTV w Poznaniu\, orkiestry Teatru Wielkiego w Poznaniu\, Filharmonii Poznańskiej\,  orkiestry kameralnej Akademia  i Camerata Nova\, Orkiestry Symfonicznej w Bienne – Szwajcaria. Koncertmistrz i prowadzący letnich koncertów kameralnych w kantonie Graubinden (Szwajcaria). Założyciel zespołu instrumentalnego Pro Arte Novum. Solista PAA Pagart w latach 1984 – 92. Koncertował m.in. w krajach Związku Radzieckiego\, Czechosłowacji\, Francji\, Grecji\, Wielkiej Brytanii\, Niemczech\, Jugosławii\, Grecji\, Szwajcarii i na Węgrzech. Nagrał dla Polskiego Radia serię kilkunastu polskich sonat skrzypcowych i miniatur wraz z wybitnymi pianistami.\nZENON USARKIEWICZ - członek ZAP.\nMa na swym koncie kilkanaście wystaw indywidualnych i zbiorowych\, m.in. w Muzeum Narodowym\, Oddział Gdański. Wydawca albumów z zabytkami i krajobrazami Kociewia.\n\nOrganizator plenerów Twórców Ludowych i artystów malarzy. Od wielu lat związany jest z Muzeum Kociewskim w Wycinkach\, Gmina Osiek\, które powstało z inicjatywy artysty na bazie Izby Regionalnej. Tam znajdują się zarówno jego prywatne zbiory etnograficzne\, jak i ofiarowane przez mieszkańców Kociewia i przyjaciół z całej Polski. Muzeum posiada także bogate zbiory współczesnych rzeźb\, obrazów\, haftów i plecionkarstwa. Jest to pokłosie kilku Plenerów Twórców Ludowych organizowanych w ostatnich latach. Obecnie Muzeum prowadzone jest przez Stowarzyszenie Przyjaciół Muzeum Kociewskiego w Wycinkach "DĄB" z jego prezesem i kustoszem - Zenonem Usarkiewiczem na czele.\n
URL:http://teatr.grudziadz.pl/wydarzenie/koncert-niedzielny-14/
LOCATION:ul. Wybickiego 38
CATEGORIES:Koncert
ATTACH;FMTTYPE=image/jpeg:http://teatr.grudziadz.pl/wp-content/uploads/2017/10/wolańscy-zdj-2.jpg
ORGANIZER;CN="CK%20Teatr%20w%20Grudzi%C4%85dzu":MAILTO:ewelina@teatr.grudziadz.pl
END:VEVENT
END:VCALENDAR