BEGIN:VCALENDAR
VERSION:2.0
PRODID:-//Centrum Kultury Teatr w Grudziądzu - ECPv4.0.5//NONSGML v1.0//EN
CALSCALE:GREGORIAN
METHOD:PUBLISH
X-WR-CALNAME:Centrum Kultury Teatr w Grudziądzu
X-ORIGINAL-URL:http://teatr.grudziadz.pl
X-WR-CALDESC:Events for Centrum Kultury Teatr w Grudziądzu
BEGIN:VEVENT
DTSTART;TZID="Europe/Warsaw":20180414T190000
DTEND;TZID="Europe/Warsaw":20180414T190000
DTSTAMP:20260421T143224
CREATED:20180228T130838
LAST-MODIFIED:20180409T074500
UID:11266-1523732400-1523732400@teatr.grudziadz.pl
SUMMARY:Muza zalewa miasto LIMBOSKI vs David Bowie
DESCRIPTION:MUZA ZALEWA MIASTO – to nasz nowa propozycja koncertowa. Na scenie Klubu Akcent co miesiąc\, w sobotę\, pojawiać się będą artyści\, których ciężko zaszufladkować w jednym nurcie muzycznym. Nasza kolejna propozycja w tym cyklu to Limboski\, który zmierzy się z muzyką Davida Bowiego.\n\nLIMBOSKI od lat pozostaje aktywny na polskiej scenie alternatywnej. O sobie mówi\, że w młodości planował zostać pisarzem\, a książki inspirowały go bardziej od piosenek. Jednak po przygodzie z teatrologią podjął studia jazzowe\, a ostatecznie postanowił wyrażać się poprzez medium dźwiękowe. Tym niemniej błyskotliwa warstwa literacka pozostała wielkim atutem jego twórczości – zarówno w polskojęzycznej\, jak i anglojęzycznej odsłonie. Limboski najlepiej odnajduje się właśnie w konwencji śpiewaka z gitarą – wyrasta z amerykańskich źródeł piosenki rockowej. Jako miłośnik analogowego sposobu nagrywania doskonale zgłębił korzenie bluesa i folku\, a obecnie rozwija te inspiracje w poszukiwaniu własnego stylu. W 2010 roku nagrał płytę "Cafe Brumba" z knajpowymi balladami\, którą promował zapomniany przez wielu utwór "Piosenka dla mężatki". Nagły zwrot w stronę estetyki lo-fi i bluesowa w "Tribute to Georgie Buck"\, dał mu nominację do Fryderyków 2012. W międzyczasie wystąpił w telewizyjnym show Polsatu "Must be the music" - wykonanie utworu "Czarny Otello" zapewniło mu miejsce w półfinale. W 2016 roku wydał album „One Man Madness” . Tego samego roku w październiku premierę miała jego najnowsza płyta "W trawie. I inne jeszcze młode"\, której patronem został Program Trzeci Polskiego Radia.\n\n[embed]https://www.youtube.com/watch?v=mcQNms1lzIg[/embed]\n\n 
URL:http://teatr.grudziadz.pl/wydarzenie/muza-zalewa-miasto-limboski-vs-david-bowie/
LOCATION:ul. Wybickiego 38
CATEGORIES:Koncert
ATTACH;FMTTYPE=image/jpeg:http://teatr.grudziadz.pl/wp-content/uploads/2016/01/MUZA-LIMBOSKI-page-001-2-e1523256942828.jpg
ORGANIZER;CN="CK%20Teatr%20w%20Grudzi%C4%85dzu":MAILTO:oliwia@teatr.grudziadz.pl
END:VEVENT
END:VCALENDAR