BEGIN:VCALENDAR
VERSION:2.0
PRODID:-//Centrum Kultury Teatr w Grudziądzu - ECPv4.0.5//NONSGML v1.0//EN
CALSCALE:GREGORIAN
METHOD:PUBLISH
X-WR-CALNAME:Centrum Kultury Teatr w Grudziądzu
X-ORIGINAL-URL:http://teatr.grudziadz.pl
X-WR-CALDESC:Events for Centrum Kultury Teatr w Grudziądzu
BEGIN:VEVENT
DTSTART;TZID="Europe/Warsaw":20180415T190000
DTEND;TZID="Europe/Warsaw":20180415T190000
DTSTAMP:20260421T143236
CREATED:20171026T095003
LAST-MODIFIED:20180219T131400
UID:9849-1523818800-1523818800@teatr.grudziadz.pl
SUMMARY:GWT 2018: "Sceny niemal małżeńskie"
DESCRIPTION:wg scenariusza Grażyny Barszczewskiej\nOpieka artystyczna: ANDRZEJ PONIEDZIELSKI\n \nWystępują: \nGRAŻYNA BARSZCZEWSKA - Aktorka Teatru Polskiego w Warszawie\nGRZEGORZ DAMIĘCKI - Aktor Teatru Ateneum w Warszawie\nCzas trwania spektaklu - ok. 1 godz. 30 min. bez przerwy.\nOpis \n\nTeksty satyryczne niezapomnianej Stefanii Grodzieńskiej – mistrzyni inteligentnej i dowcipnej obserwacji rzeczywistości oraz liryczne piosenki Jerzego Jurandota -składają się na ciepły\, pełen humoru i życzliwej ironii spektakl\, nawiązujący do najlepszych tradycji polskiego kabaretu literackiego.\n\nPremiera spektaklu odbyła się w Teatrze Ateneum (Scena Na Dole) w Warszawie 25 lutego 2011 roku. Przedstawienie weszło na stałe do repertuaru Teatru\, spotykając się z ogromnym zainteresowaniem publiczności spragnionej połączenia inteligentnej rozrywki z finezyjną grą aktorów. Zagranych zostało już 150 przedstawień!\n\n\n\n"Sceny..."\, poza Teatrem Ateneum\, goszczą na scenach polskich (m.in. Stary Browar w Poznaniu\, XII Festiwal Dwa Teatry w Sopocie\, III Krakowskie Miniatury Teatralne\, Festiwal Komedii w Teatrze Śląskim w Katowicach\, Festiwal Licentia Poetica na scenie kameralnej Teatru Jaracza w Piotrkowie Trybunalskim)\, jak zagranicznych (m.in. na zaproszenie szwedzkiej Polonii).\n\nGraliśmy również na zaproszenie firmy Multimedia Polska SA (dla której stworzyliśmy "efekt teatru" od zera)\, czy Polskiej Wytwórni Papierów Wartościowych (w Teatrze Kamienica).\n\nRecenzja\n\n(…) Stefania Grodzieńska pisała liczne felietony radiowe\, skecze\, książki wspomnieniowe\, ale w zasadzie nie pisała sztuk. Barszczewska stanęła więc przed nie lada zadaniem\, aby z materiału tak niescenicznego zbudować jednak spektakl\, ze swoim rytmem\, zmiennym nastrojem\, bujnym humorem i lirycznym echem. Wszystko to udało się wyśmienicie\, a niektóre z wyciągniętych\, a zapomnianych tekstów urodzonej humorystki zabrzmiały niezwykle świeżo i aktualnie.(…)\n\n(…) lekiem na całe zło jest ten precyzyjnie zbudowany spektakl\, w którym jako Głos Ducha Teatru wystąpił także (z of fu) Andrzej Poniedzielski\, wspierający aktorów radą artystyczną. Skromna scenografia nawiązująca do stylistyki lat 60.\, podobnie skrojone kostiumy\, takt\, wdzięk i lekkość formy\, wszystko to złożyło się na wieczór satysfakcjonujący każdego\, kto łaknie zastrzyku dobrych uczuć. \n\n„Jest się z czego śmiać". Tomasz Miłkowski Przegląd nr 10/13.03\n\n 
URL:http://teatr.grudziadz.pl/wydarzenie/grudziadzka-wiosna-teatralna-3/
LOCATION:ul. Wybickiego 38
CATEGORIES:Grudziądzka Wiosna Teatralna,Spektakle
ATTACH;FMTTYPE=image/jpeg:http://teatr.grudziadz.pl/wp-content/uploads/2017/10/03-2-e1516794104126.jpg
ORGANIZER;CN="CK%20Teatr%20w%20Grudzi%C4%85dzu":MAILTO:ewelina@teatr.grudziadz.pl
END:VEVENT
END:VCALENDAR