BEGIN:VCALENDAR
VERSION:2.0
PRODID:-//Centrum Kultury Teatr w Grudziądzu - ECPv4.0.5//NONSGML v1.0//EN
CALSCALE:GREGORIAN
METHOD:PUBLISH
X-WR-CALNAME:Centrum Kultury Teatr w Grudziądzu
X-ORIGINAL-URL:http://teatr.grudziadz.pl
X-WR-CALDESC:Events for Centrum Kultury Teatr w Grudziądzu
BEGIN:VEVENT
DTSTART;TZID="Europe/Warsaw":20180427T190000
DTEND;TZID="Europe/Warsaw":20180427T190000
DTSTAMP:20260421T143246
CREATED:20171026T095242
LAST-MODIFIED:20180423T062133
UID:9851-1524855600-1524855600@teatr.grudziadz.pl
SUMMARY:GWT 2018: "Mistrzowie seksu"
DESCRIPTION:Autorzy: Robert Górski i Jerzy Hutek\nna podstawie: „Animals and Other Lovers” Johna Tobiasa\nw tłumaczeniu: Elżbieta Woźniak\nReżyseria: Jerzy Gudejko\nFotografia: Grażyna Gudejko\nProdukcja: Teatr Gudejko\nWystępuje Marek Bukowski\n            Mistrzowie Seksu to komediowe show w wykonaniu Marka Bukowskiego. Cenione przez mężczyzn\, a uwielbiany przez płeć piękną daje w nim popis swoich komediowych umiejętności. Polską wersję spektaklu stworzyli: mistrz ironii Jerzy Hutek oraz lider „Kabaretu Moralnego Niepokoju” Robert Górski. Marek Bukowski\, z właściwym sobie wdziękiem balansuje na granicy kabaretowego stand-up’u i aktorskiego monodramu. Jest równie wiarygodny jako pretensjonalny macho\, obiektywny naukowiec czy udręczony kochanek. Kto widział „Supermenkę” w wykonaniu Jowity Budnik\, rozpozna w bohaterze „MISTRZÓW SEKSU” partnera Moniki. Wiktor\, postać grana przez Marka Bukowskiego\, to naukowiec\, podróżnik oraz\, niestety\, niezbyt udany mąż . Mając problemy w relacjach damsko-męskich\, postanowił szukać inspiracji w świecie zwierząt. Zwierząt jest więcej niż ludzi. Ba! Samych owadów jest o wiele więcej. Jak one to robią? Czy możemy się od nich czegoś nauczyć? Wiktor jest naukowcem\, więc bez skrępowania odpowiada na pytania\, które zwykle wstydzimy się zadać. W czasie wykładu odkrywa kilka nowych prawd o samym sobie. Czy może być coś bardziej zabawnego\, niż gdy samiec alfa dochodzi do wniosku\, że jest prostakiem\, który nie dorasta do pięt swojej partnerki? Trochę nam żal takiej ofiary\, ale przecież to dużo lepiej\, kiedy ktoś za nas\, dokonuje psychologicznego striptizu. Po wysłuchaniu wykładu Wiktora będziecie dużo mądrzejsi. Partnerka dowie się czegoś o swoim mężczyźnie\, a mężczyzna o swojej ukochanej. Kiedy poznacie zwyczaje godowe guźców\, wróbli\, lwów\, mrówek albo szympansów bonobo wasze życie erotyczne nabierze nowych barw.\n\n\n\nTutaj poważne ostrzeżenie: pierwsze trzy noce po obejrzeniu spektaklu możecie mieć nieprzespane!\n\nPraktyki erotyczne modliszek oraz pszczół miodnych\, prezentowane są jedynie ku przestrodze. Pod żadnym pozorem proszę ich nie naśladować! Życzymy wesołej zabawy i niespokojnej nocy.\n\n\n\n \n\n 
URL:http://teatr.grudziadz.pl/wydarzenie/grudziadzka-wiosna-teatralna-5/
LOCATION:ul. Wybickiego 38
CATEGORIES:Koncert
ATTACH;FMTTYPE=image/jpeg:http://teatr.grudziadz.pl/wp-content/uploads/2017/10/05-13.jpg
ORGANIZER;CN="CK%20Teatr%20w%20Grudzi%C4%85dzu":MAILTO:ewelina@teatr.grudziadz.pl
END:VEVENT
END:VCALENDAR