BEGIN:VCALENDAR
VERSION:2.0
PRODID:-//Centrum Kultury Teatr w Grudziądzu - ECPv4.0.5//NONSGML v1.0//EN
CALSCALE:GREGORIAN
METHOD:PUBLISH
X-WR-CALNAME:Centrum Kultury Teatr w Grudziądzu
X-ORIGINAL-URL:http://teatr.grudziadz.pl
X-WR-CALDESC:Events for Centrum Kultury Teatr w Grudziądzu
BEGIN:VEVENT
DTSTART;TZID="Europe/Warsaw":20180508T100000
DTEND;TZID="Europe/Warsaw":20180508T100000
DTSTAMP:20260421T131125
CREATED:20180307T130842
LAST-MODIFIED:20180418T122159
UID:11332-1525773600-1525773600@teatr.grudziadz.pl
SUMMARY:Impreza kulturalna Ośrodka Szkolno-wychowawczego w Grudziądzu
DESCRIPTION:(impreza zamknięta)
URL:http://teatr.grudziadz.pl/wydarzenie/impreza-kulturalna-osrodka-szkolno-wychowawczego-w-grudziadzu/
LOCATION:ul. Wybickiego 38
CATEGORIES:Koncert
ORGANIZER;CN="CK%20Teatr%20w%20Grudzi%C4%85dzu":MAILTO:oliwia@teatr.grudziadz.pl
END:VEVENT
END:VCALENDAR