BEGIN:VCALENDAR
VERSION:2.0
PRODID:-//Centrum Kultury Teatr w Grudziądzu - ECPv4.0.5//NONSGML v1.0//EN
CALSCALE:GREGORIAN
METHOD:PUBLISH
X-WR-CALNAME:Centrum Kultury Teatr w Grudziądzu
X-ORIGINAL-URL:http://teatr.grudziadz.pl
X-WR-CALDESC:Events for Centrum Kultury Teatr w Grudziądzu
BEGIN:VEVENT
DTSTART;TZID="Europe/Warsaw":20180510T170000
DTEND;TZID="Europe/Warsaw":20180510T170000
DTSTAMP:20260421T131227
CREATED:20180307T131054
LAST-MODIFIED:20180413T072605
UID:11277-1525971600-1525971600@teatr.grudziadz.pl
SUMMARY:Otwarcie wystawy dyplomantów Liceum Plastycznego
DESCRIPTION:Dyplom to ukoronowanie czteroletniej nauki posługiwania się kreską i kolorem w pracach o różnej tematyce. Umiejętności rozwinięte przez uczniów są niezbędne w dalszym kształceniu na kierunkach artystycznych. W ocenie nauczycieli jednak\, najważniejszą umiejętnością jaką uzyskali ci młodzi ludzie jest kreatywne myślenie\, które przydaje się we wszystkich dziedzinach życia.\n\n\n\n\n\nWystawa prac dyplomowych uczniów grudziądzkiego Liceum Plastycznego to zwieńczenie czteroletniej pracy młodych ludzi tworzących pod okiem swoich opiekunów. Tegoroczna wystawa poszerzona została o nową specjalność - fotografię artystyczną. Wśród prac zobaczymy: kalendarze\, plakaty filmowe i społeczne\, projekty postaci do gier\, identyfikacje firm\, projekty kart do gry\, zdjęcia sportowe\, projekty aplikacji mobilnej oraz grafikę warsztatową -  linoryt.\n\n\n\nOpiekę artystyczną nad dyplomantami sprawowały Wioletta Dolewska\, Beata Garrett i Małgorzata Mikołajko. Wystawę będzie można obejrzeć od 10 do 20 maja w galerii Akcent. Zapraszamy serdecznie.\n\n\n\n \n\n
URL:http://teatr.grudziadz.pl/wydarzenie/wystawa-2/
LOCATION:ul. Wybickiego 38
ORGANIZER;CN="CK%20Teatr%20w%20Grudzi%C4%85dzu":MAILTO:szymon.r@teatr.grudziadz.pl
END:VEVENT
END:VCALENDAR