BEGIN:VCALENDAR
VERSION:2.0
PRODID:-//Centrum Kultury Teatr w Grudziądzu - ECPv4.0.5//NONSGML v1.0//EN
CALSCALE:GREGORIAN
METHOD:PUBLISH
X-WR-CALNAME:Centrum Kultury Teatr w Grudziądzu
X-ORIGINAL-URL:http://teatr.grudziadz.pl
X-WR-CALDESC:Events for Centrum Kultury Teatr w Grudziądzu
BEGIN:VEVENT
DTSTART;TZID="Europe/Warsaw":20180511T193000
DTEND;TZID="Europe/Warsaw":20180511T193000
DTSTAMP:20260421T131157
CREATED:20180307T131232
LAST-MODIFIED:20180419T071115
UID:11334-1526067000-1526067000@teatr.grudziadz.pl
SUMMARY:Stand up – wieczór komediowy (dla widzów dorosłych)
DESCRIPTION: \nMichał Kutek - z wykształcenia prawnik\, od trzech lat postępuje wbrew woli rodziców\, coraz silniej ciągnąc w stronę stand-upu. Michał prezentuje inteligentny humor i dobrze skonstruowane żarty. Cały czas szuka\, głównie siebie na scenie. Nie należy do rozgorączkowanych\, biegających po scenie spoconych dzików. Trochę w nim goryczy i rozczarowania; sobą oraz światem\, podoba mu się to. Aktywnie działa na scenie poznańskiej. Zajął 3 miejsce na 4 edycji Antrakt Stand-up festiwal.\n \n\n \n\n \n\n \n\n \n\n \n\n\nMichał Leja - stand-uper\, improwizator i gospodarz programu „Michał Leja Show”. Szturmem zdobył uznanie publiczności w całej Polsce oraz uznanie środowiska komediowego. Niecodzienne spojrzenie na świat\, świetna interakcja z publicznością oraz otwartość na inne formy sprawiają\, że każdy występ Michała to rozrywka na najwyższym poziomie. Do Grudziądza przyjedzie z najnowszym programem "Wszystko pod kontrolną".\n\n\n \n\n \n\n\nJakub Poczęty-Błażewicz - jeden z "największych" komików na Polskiej scenie (głównie ciałem). Fizyczną niedoskonałość traktuje jako broń\, która dostała mu się od samego Kriszny. Czujny człowiek\, któremu nie umknie nic co robimy źle jako ludzkość\, zadaje pytania\, których nikt nie powinien zadawać i śmieje się z głupoty\, również własnej. Charakteryzuje go pewność siebie\, energia\, szukanie kontaktu z publicznością i pewien charakterystyczny sposób bycia\, który nie dopuszcza do niego myśli\, że to co ma na talerzu może mu wystarczyć.\n\n \n\n\n\n
URL:http://teatr.grudziadz.pl/wydarzenie/stand-up-wieczor-komediowy-15/
LOCATION:ul. Wybickiego 38
ORGANIZER;CN="CK%20Teatr%20w%20Grudzi%C4%85dzu":MAILTO:szymon.r@teatr.grudziadz.pl
END:VEVENT
END:VCALENDAR