BEGIN:VCALENDAR
VERSION:2.0
PRODID:-//Centrum Kultury Teatr w Grudziądzu - ECPv4.0.5//NONSGML v1.0//EN
CALSCALE:GREGORIAN
METHOD:PUBLISH
X-WR-CALNAME:Centrum Kultury Teatr w Grudziądzu
X-ORIGINAL-URL:http://teatr.grudziadz.pl
X-WR-CALDESC:Events for Centrum Kultury Teatr w Grudziądzu
BEGIN:VEVENT
DTSTART;TZID="Europe/Warsaw":20180519T190000
DTEND;TZID="Europe/Warsaw":20180519T190000
DTSTAMP:20260421T131159
CREATED:20180409T081103
LAST-MODIFIED:20180517T110047
UID:11666-1526756400-1526756400@teatr.grudziadz.pl
SUMMARY:Muza zalewa miasto PlanBe
DESCRIPTION:\n\n\n\n\n\n\nPamiętacie ankietę\, którą przeprowadziliśmy na naszym profilu FB? Prowadzimy rozmowy z kilkoma z zaproponowanych przez Was artystów\, a pierwsze owoce tych rozmów przed nami. Artystą\, który podczas głosowania uzyskał trzecią lokatę był PlanBe! Dlatego właśnie w trzeciej odsłonie naszego projektu MUZA ZALEWA MIASTO wracamy do raperskich brzmień i już 19 maja zapraszamy na koncert PlanuBe.\n\nCieszymy się\, że QUEBONAFIDE okazał się strzałem w dziesiątkę I mamy nadzieję\, że I tym razem frekwencja dopisze . PlanBe przyjął zaproszenie do naszego projektu. Ten młody raper z wytwórni Quequality to duży talent z tzw. “Nowej fali” twórców.\n\nNie bez znaczenia pozostaje również fakt\, że to właśnie na Bartosza Krupę – PLAN BE\, oddano dużo głosów w ankiecie na profilu facebookowym Muza zalewa miasto. Pamiętajcie\, że to Wy tworzycie ten projekt i to od naszych wspólnych decyzji I zaangażowania będzie zależeć jego dalszy rozwój \n\nNa koncert PlanBe zapraszamy już 19 maja o godz. 19:00 do Klubu Akcent.\n\n\n\n\n\nObecność obowiązkowa!\n\nBilety : 30 zł (przedsprzedaż) 40 zł (w dniu koncertu)\n\nSee Ya!\n\n\n\n\n\n\n\n \n\n 
URL:http://teatr.grudziadz.pl/wydarzenie/muza-zalewa-miasto-plan-be/
LOCATION:ul. Wybickiego 38
CATEGORIES:Koncert
ATTACH;FMTTYPE=image/jpeg:http://teatr.grudziadz.pl/wp-content/uploads/2018/04/5-2-e1523261451749.jpg
ORGANIZER;CN="CK%20Teatr%20w%20Grudzi%C4%85dzu":MAILTO:oliwia@teatr.grudziadz.pl
END:VEVENT
END:VCALENDAR