BEGIN:VCALENDAR
VERSION:2.0
PRODID:-//Centrum Kultury Teatr w Grudziądzu - ECPv4.0.5//NONSGML v1.0//EN
CALSCALE:GREGORIAN
METHOD:PUBLISH
X-WR-CALNAME:Centrum Kultury Teatr w Grudziądzu
X-ORIGINAL-URL:http://teatr.grudziadz.pl
X-WR-CALDESC:Events for Centrum Kultury Teatr w Grudziądzu
BEGIN:VEVENT
DTSTART;TZID="Europe/Warsaw":20180520T120000
DTEND;TZID="Europe/Warsaw":20180520T120000
DTSTAMP:20260421T131231
CREATED:20171026T104449
LAST-MODIFIED:20180514T064109
UID:9863-1526817600-1526817600@teatr.grudziadz.pl
SUMMARY:Koncert Niedzielny  Państwowa Szkoła Muzyczna I i II stopnia w Grudziądzu
DESCRIPTION:Majowy koncert niedzielny\, to już tradycja\, upłynie w towarzystwie uczniów Państwowej Szkoły Muzycznej I i II stopnia im. Stanisława Moniuszki w Grudziądzu. Różnorodny program koncertu wypełnią utwory z kręgu muzyki  poważnej jak i rozrywkowej. W programie koncertu zaplanowano m.in.  występy zespołów smyczkowych\, saksofonowych\, akordeonowych\, będzie też orkiestra dęta  oraz szkolne chóry. Serdecznie polecamy\n\nWystąpią:\n\n- zespół muzyki rozrywkowej (przygotowanie - Tadeusz Linowski)\n\n- orkiestra smyczkowa (przygotowanie - Piotr Jankowski)\n\n- orkiestra dęta (przygotowanie - Dariusz Dobosz)\n\n- zespół saksofonowy (przygotowanie - Dariusz Dobosz)\n\n- zespół akordeonowy II st. (przygotowanie - Tomasz Kwiatkowski)\n\n- zespół akordeonowy I st. (przygotowanie - Hanna Kwiatkowska)\n\n- zespół kameralny (przygotowanie - Tadeusz Linowski)\n\n- chór I st. (przygotowanie - Iwona Misztal)\n\n- chór II st. (przygotowanie - Gizela Łazicka)\n\nMACIEJ MIERZEJEWSKI - wystawa fotograficzna pt. "Echa podświadomości"\n\nMACIEJ MIERZEJEWSKI \n\nPodświadomość\, mimo że jest nazwana\, pozostaje dla nas obszarem wciąż niejasnym i niejednoznacznym\, tajemniczym i pociągającym\, a tym samym czasem i przerażającym. Przybiera rozmaite maski\, które mają nas zmylić\, przerazić i zgubić trop do prawdziwego\, schowanego „ja”. Fotografie Macieja Mierzejewskiego są jak bramy\, przez które przenikamy na tę drugą stronę\, by wydobyć z cienia i podejrzeć to\, co jest ukryte za tymi maskami. Co jest nami\, naszą prawdziwą\, dziką podskórną naturą\, łączącą nas w jedno z otaczającym mikro – i makrokosmosem. Przyglądamy się nieznanemu\, ale i ono spogląda nam w oczy. To nieznane jest lustrem\, echem tego\, czego się boimy\, przed czym uciekamy. Surowe kadry hipnotyzują nas\, zasysają w głąb. „Echa podświadomości” wydają się trochę takim medium\, które pomaga oswoić lęki i strachy oraz pokazuje\, że należy uznać je za część nas. Kontakt z tym\, co podświadome pozwala lepiej zrozumieć\, że to\, co niewidzialne może być widzialne. Choć z drugiej strony\, może to tylko miraże\, którym uległ autor i zatrzymał w chropowatej fakturze skał i korze drzew?\n\n(Hanna Wittstock)\n\nMaciej Mierzejewski\, (1964). Toruński fotografik\, autor ośmiu indywidualnych wystaw fotograficznych oraz filmu dokumentalnego: „Matka poety” poświęconego matce Edwarda Stachury. Pracował również jako fotoreporter i nauczyciel młodych adeptów fotografii. Obecnie bierze udział w tworzeniu Kujawsko-Pomorskiej Biblioteki Cyfrowej w ramach Biblioteki Uniwersyteckiej UMK w Toruniu. Miłośnik poezji we wszystkich jej postaciach. „Echa podświadomości” to jego najnowsza wystawa.\n\n    
URL:http://teatr.grudziadz.pl/wydarzenie/koncert-niedzielny-panstwowa-szkola-muzyczna-i-i-ii-stopnia-w-grudziadzu/
LOCATION:ul. Anny Walentynowicz\, Grudziądz\, Polska
CATEGORIES:Koncert
ATTACH;FMTTYPE=image/jpeg:http://teatr.grudziadz.pl/wp-content/uploads/2017/10/20170514_fotosart_pl_011.jpg
ORGANIZER;CN="CK%20Teatr%20w%20Grudzi%C4%85dzu":MAILTO:oliwia@teatr.grudziadz.pl
END:VEVENT
END:VCALENDAR