BEGIN:VCALENDAR
VERSION:2.0
PRODID:-//Centrum Kultury Teatr w Grudziądzu - ECPv4.0.5//NONSGML v1.0//EN
CALSCALE:GREGORIAN
METHOD:PUBLISH
X-WR-CALNAME:Centrum Kultury Teatr w Grudziądzu
X-ORIGINAL-URL:http://teatr.grudziadz.pl
X-WR-CALDESC:Events for Centrum Kultury Teatr w Grudziądzu
BEGIN:VEVENT
DTSTART;TZID="Europe/Warsaw":20180529T110000
DTEND;TZID="Europe/Warsaw":20180530T110000
DTSTAMP:20260421T114310
CREATED:20180307T133414
LAST-MODIFIED:20180507T103851
UID:11341-1527591600-1527678000@teatr.grudziadz.pl
SUMMARY:Dreptaczek „Jaś i Małgosia” – Teatr Wędrowny KOSZALIN
DESCRIPTION:Reżyseria: Zbigniew Kulwicki\nScenografia\, kostiumy: Ryszard Belka i Marianna Gitner-Sawistowska\nMuzyka: Piotr Jan Ulatowski\nObsada: Iga Jambor-Skupniewicz/Karolina Suchodolska\, Adrian Wiśniewski\, Zbigniew Kulwicki.\nPremiera: 1 XII 2013\nCzas trwania spektaklu: 45 minut (bez przerw)\nWięcej na:\nhttp://teatr.grudziadz.pl/dreptaczek-jas-malgosia/
URL:http://teatr.grudziadz.pl/wydarzenie/jas-i-malgosia-bajka-dla-dzieci/
ORGANIZER;CN="CK%20Teatr%20w%20Grudzi%C4%85dzu":MAILTO:szymon.r@teatr.grudziadz.pl
END:VEVENT
END:VCALENDAR