BEGIN:VCALENDAR
VERSION:2.0
PRODID:-//Centrum Kultury Teatr w Grudziądzu - ECPv4.0.5//NONSGML v1.0//EN
CALSCALE:GREGORIAN
METHOD:PUBLISH
X-WR-CALNAME:Centrum Kultury Teatr w Grudziądzu
X-ORIGINAL-URL:http://teatr.grudziadz.pl
X-WR-CALDESC:Events for Centrum Kultury Teatr w Grudziądzu
BEGIN:VEVENT
DTSTART;TZID="Europe/Warsaw":20180606T170000
DTEND;TZID="Europe/Warsaw":20180606T170000
DTSTAMP:20260421T114205
CREATED:20171026T104659
LAST-MODIFIED:20180529T132624
UID:9864-1528304400-1528304400@teatr.grudziadz.pl
SUMMARY:„Piosenka jest dobra  na wszystko” - koncert kabaretowy  Koncert podopiecznych Centrum Pomocy Dziecku i Poradnictwa Rodzinnego
DESCRIPTION:Od wielu już lat  co roku w  Klubie Akcent   prezentujemy  twórczość artystyczną dzieci z Placówek Opiekuńczo –Wychowawczych  oraz  Placówek Wsparcia Dziennego wraz z wychowawcami i opiekunami. Tegoroczny koncert będzie dla nas wszystkich szczególnym wydarzaniem\, gdyż przypada w 25 rocznicę powstania Centrum. Z tej okazji przygotowaliśmy koncert kabaretowy pt.: „Piosenka jest dobra na wszystko”. \n\nDzieci oraz ich opiekunowie  zapraszają na spotkanie\, gdzie zabrzmią\, nie tylko znane i lubiane przeboje muzyczne\, ale również będzie to spotkanie z kabaretem.  Młodzi artyści wykonają piosenki znanych i lubianych wokalistów\, zaprezentują skecze i monologi kabaretowe\, będzie to mnóstwo dowcipnych i zabawnych skojarzeń z życia Placówki.\n\nPodopieczni placówek do wszystkich koncertów podchodzą z ogromną werwą i radością z bycia na scenie\, tak też będzie i tym razem. Nie zabraknie radosnej atmosfery\, spontaniczności i dobrej zabawy. Ponadto\, z okazji naszego jubileuszu będzie można również podziwiać niezwykłą wystawę w Galerii Akcentu\, będą to  prace plastyczne wykonane przez dzieci o tematyce satyrycznej przedstawiających „ciocie i wujków” z Centrum\, a tytuł wystawy to „Zawsze jest radośnie”.\nIdeą Dyrekcji i pracowników Centrum jest uwrażliwianie dzieci  na kulturę i sztukę a także integracja pokoleń.  Należy dodać\, iż najmłodsi czerpią wiele radości i satysfakcji z  takiej aktywności\, odkrywają swoje talenty\, rozwijają zainteresowania\, uczą się bycia razem\, okazywania wzajemnego wsparcia. Te wspólnie spędzone chwile sprawiają\, że  wszyscy razem deklarują dalsze zaangażowanie w życie kulturalne miasta oraz niesienie radości mieszkańcom. Jest to też świetna okazja aby wskazać dzieciom alternatywne formy spędzania czasu co stanowi ważny element działalności profilaktyczno–wychowawczej skierowany szczególnie do środowisk zagrożonych wykluczeniem społecznym.\n\n\n\nKoncert skierowany jest do  społeczności Grudziądza\, dzieci\, młodzieży\, rodziców\, dziadków\, opiekunów oraz wszystkich instytucji współpracujących bądź w jakiś sposób związanych z Centrum. Jest też formą podziękowania dla wszystkich „przyjaciół Naszego Domu”\, którzy okazują nam pomoc i wsparcie na co dzień. Są to ludzie dla których dobro dzieci jest priorytetem. Mamy nadzieję\, że również i tym razem twórczość naszych artystów w połączeniu ze wspaniałą muzyką i zabawnymi skeczami dostarczy wszystkim zaproszonym gościom niezapomnianych emocji\, radości i relaksu. Koncert kabaretowy „Piosenka jest dobra na wszystko” jest kontynuacją cyklu koncertów organizowanych przez Centrum każdego roku. Ponadto jest to dobra okazja do integracji środowisk lokalnego systemu oraz mieszkańców Grudziądza.\n\n 
URL:http://teatr.grudziadz.pl/wydarzenie/koncert-podopiecznych-centrum-pomocy-dziecku-i-poradnictwa-rodzinnego/
LOCATION:ul. Wybickiego 38
CATEGORIES:Koncert
ATTACH;FMTTYPE=image/jpeg:http://teatr.grudziadz.pl/wp-content/uploads/2017/10/koncert-2.jpg
ORGANIZER;CN="CK%20Teatr%20w%20Grudzi%C4%85dzu":MAILTO:oliwia@teatr.grudziadz.pl
END:VEVENT
END:VCALENDAR