BEGIN:VCALENDAR
VERSION:2.0
PRODID:-//Centrum Kultury Teatr w Grudziądzu - ECPv4.0.5//NONSGML v1.0//EN
CALSCALE:GREGORIAN
METHOD:PUBLISH
X-WR-CALNAME:Centrum Kultury Teatr w Grudziądzu
X-ORIGINAL-URL:http://teatr.grudziadz.pl
X-WR-CALDESC:Events for Centrum Kultury Teatr w Grudziądzu
BEGIN:VEVENT
DTSTART;TZID="Europe/Warsaw":20180608T160000
DTEND;TZID="Europe/Warsaw":20180608T160000
DTSTAMP:20260421T114207
CREATED:20180418T115938
LAST-MODIFIED:20180516T085827
UID:11822-1528473600-1528473600@teatr.grudziadz.pl
SUMMARY:Festiwal Muzyki Dawnej im. Piotra z Grudziądza
DESCRIPTION:Więcej na:\n\nhttp://fpzg.pl/
URL:http://teatr.grudziadz.pl/wydarzenie/festiwal-muzyki-dawnej-im-piotra-z-grudziadza/
LOCATION:ul. Wybickiego 38
CATEGORIES:Koncert,Plenery
ORGANIZER;CN="CK%20Teatr%20w%20Grudzi%C4%85dzu":MAILTO:oliwia@teatr.grudziadz.pl
END:VEVENT
END:VCALENDAR