BEGIN:VCALENDAR
VERSION:2.0
PRODID:-//Centrum Kultury Teatr w Grudziądzu - ECPv4.0.5//NONSGML v1.0//EN
CALSCALE:GREGORIAN
METHOD:PUBLISH
X-WR-CALNAME:Centrum Kultury Teatr w Grudziądzu
X-ORIGINAL-URL:http://teatr.grudziadz.pl
X-WR-CALDESC:Events for Centrum Kultury Teatr w Grudziądzu
BEGIN:VEVENT
DTSTART;TZID="Europe/Warsaw":20180609T160000
DTEND;TZID="Europe/Warsaw":20180609T160000
DTSTAMP:20260421T114331
CREATED:20180418T120238
LAST-MODIFIED:20180516T085450
UID:11823-1528560000-1528560000@teatr.grudziadz.pl
SUMMARY:Festiwal Muzyki Dawnej im. Piotra z Grudziądza
DESCRIPTION:Więcej na:\n\nhttp://fpzg.pl/
URL:http://teatr.grudziadz.pl/wydarzenie/festiwal-muzyki-dawnej-im-piotra-z-grudziadza-2/
LOCATION:ul. Wybickiego 38
CATEGORIES:Koncert,Plenery
ORGANIZER;CN="CK%20Teatr%20w%20Grudzi%C4%85dzu":MAILTO:oliwia@teatr.grudziadz.pl
END:VEVENT
BEGIN:VEVENT
DTSTART;TZID="Europe/Warsaw":20180609T170000
DTEND;TZID="Europe/Warsaw":20180609T170000
DTSTAMP:20260421T114331
CREATED:20180307T133558
LAST-MODIFIED:20180604T090936
UID:11342-1528563600-1528563600@teatr.grudziadz.pl
SUMMARY:Święto Województwa  Astro Festiwal i koncert zespołu Feel
DESCRIPTION:W programie przewidujemy m.in. gry i zabawy dla dzieci\, widowiskowe eksperymenty naukowe czy wirtualną wyprawę na Marsa. Nie zabraknie też atrakcji muzycznych\, m.in. w wykonaniu grudziądzkiej formacji Voices of the Cosmos. Gwiazdą wieczoru będzie zespół FEEL!\n\nNa wydarzenie zapraszamy w imieniu Marszałka Województwa Kujawsko-Pomorskiego.\n\nZespołu Feel nie trzeba specjalnie przedstawiać. Grają już 10 lat. Zespół założony został w maju 2005 roku przez Piotra Kupichę. Grupa w swoim dorobku ma wiele nagród (Telekamery\, Superjedynki\, Bursztynowy Słowik\, Słowik Publiczności) i hitów jak np. „Jak anioła głos”\, „A gdy jest już ciemno”\, czy "Swoje szczęście znam". Feel jest w czołówce najbardziej lubianych zespołów pop-rockowych w Polsce.
URL:http://teatr.grudziadz.pl/wydarzenie/swieto-wojewodztwa-astro-festiwal-i-koncert-zespolu-feel/
ATTACH;FMTTYPE=image/jpeg:http://teatr.grudziadz.pl/wp-content/uploads/2018/04/FEEL-foto-Medium-2.jpg
END:VEVENT
END:VCALENDAR