BEGIN:VCALENDAR
VERSION:2.0
PRODID:-//Centrum Kultury Teatr w Grudziądzu - ECPv4.0.5//NONSGML v1.0//EN
CALSCALE:GREGORIAN
METHOD:PUBLISH
X-WR-CALNAME:Centrum Kultury Teatr w Grudziądzu
X-ORIGINAL-URL:http://teatr.grudziadz.pl
X-WR-CALDESC:Events for Centrum Kultury Teatr w Grudziądzu
BEGIN:VEVENT
DTSTART;TZID="Europe/Warsaw":20180610T160000
DTEND;TZID="Europe/Warsaw":20180610T160000
DTSTAMP:20260421T114309
CREATED:20180516T133640
LAST-MODIFIED:20180607T062900
UID:12123-1528646400-1528646400@teatr.grudziadz.pl
SUMMARY:Inauguracja II Festiwalu Letniego im. Piotra Janowskiego
DESCRIPTION:Program inauguracji festiwalu: \nPiotr Janowski często mówił\, że mniej więcej co pięć lat MUSI zagrać całego Bacha. Tak go brało. I grał. Wszystkie sonaty i partity. Dlatego jego przyjaciel Marek Bugajski i żona Joanna Maklakiewicz rozpoczną od Bacha. Zabrzmią dwie sonaty na altówkę (violę da gamba) i fortepian g-moll i G-dur. Następnie studentka Piotra Pamela Howland wykona muzykę amerykańską\, a na koniec koncertu może jakaś niespodzianka.\n\nWystąpią:\nJoanna Maklakiewicz -żona\,\nMarek Bugajski - przyjaciel\,\nPamela Howland - studentka z Eastman School of Music w Rochester  z lat 80tych.\n\nMarek Bugajski - altowiolista. W Polsce pracował we wszystkich uznanych orkiestrach Warszawy\, począwszy od Filharmonii Narodowej. grał też w kwartecie. Po emigracji z Polski przez wiele lat grał w orkiestrze Opery w Oslo w Norwegii. Z Piotrem nagrywał płyty w Norwegii.\n\nPamela Howland studiowała kameralistykę u Piotra\, a także grała mu swoje utwory solowe. Obecnie przebywa w Polsce jako stypendystka Fullbrighta prowadząc zajęcia na Uniwersytecie Adama Mickiewicza w Poznaniu o amerykańskiej muzyce. Zagra mini-recital muzyki amerykańskiej.\n\n Joanna Maklakiewicz pianistka.\n\nAbsolwentka Liceum im. Gnessinych w Moskwie oraz Akademii Muzycznej im. Fryderyka Chopina w Warszawie. Pochodzi ze znanej rodziny polskich artystów. Pracuje w Katedrze Kameralistyki Fortepianowej Uniwersytetu Muzycznego Fryderyka Chopina w Warszawie na stanowisku adiunkta. Prowadzi też działalność dydaktyczną w Zespole Szkół Muzycznych im. Fryderyka Chopina w Warszawie. W dorobku artystycznym ma wiele recitali z polską muzyką  fortepianową XIX wieku\, a także koncertów kameralnych\, na których prezentowała bardzo szeroki repertuar – od XVIII wieku do współczesności. Koncertowała w Europie\, Stanach Zjednoczonych i  Japonii. Brała udział w licznych festiwalach w Polsce i za granicą\, m.in. Festiwal Duetów Fortepianowych (Litwa)\, Festiwal Muzyki Współczesnej (Ukraina)\, Chamber Music Days oraz Sommersymfoni (Norwegia). Prowadziła kursy mistrzowskie w Polsce\, Japonii\, Norwegii i Szwajcarii.\n\n \n\nKolejne koncerty w ramach festiwalu im. Piotra Janowskiego: \n\n17 czerwca   Park Miejski \nTercet Wróbli\ngodz. 16.00       wstęp wolny\n\nAndrzej Wróbel\, emerytowany profesor UMFC wraz z żoną Elżbietą Pawikowską i córką Anną (obecnie już dr hab w Akademii w Białymstoku) zagrają opracowania autorskie na trzy wiolonczele\, a także jeden utwór z towarzyszeniem fortepianu.\n\nAndrzej Wróbel uczył się razem z Piotrem w Liceum i występowali razem już jako dzieci. Po powrocie Piotra do Polski wielokrotnie grali razem\, a Piotr u nich nawet pomieszkiwał zabawiając małą Anię. Profesor Wróbel na stałe współpracuje z Konstantym Andrzejem Kulką\, grając zrobione przez siebie opracowania Karola Lipińskiego. Do Grudziądza przyjedzie prosto z koncertu w Gdańsku z prof. Kulką.\n\nAndrzej Wróbel wspaniale prowadzi koncerty\, jest świetnym gawędziarzem\, mówimy o nim\, że jest "ustami Kulki" :)\, a do tego jednym z najwybitniejszych w Polsce znawców muzyki polskiej.\n\n24 czerwca    Park Miejski \nKoncert orkiestry i zespołów PSM I i II st. w Grudziądzu\ngodz. 16.00     wstęp wolny\n\n1 lipca   Park Miejski \nZespół S.V.P.\nW składzie: Maciej Drapiński – akordeon\nAntoni Olszewski – kontrabas\nKrzysztof Szuca – perkusja\nKrzysztof Biernacki – klarnet\, saksofon\n\nZakończenie festiwalu:\n\n8 lipca        Park Miejski \nKameralistyka to kwintesencja muzyki - mówił Piotr Janowski\ngodz. 16.00      wstęp wolny\n\nWystąpią:\nBolesław Siarkiewicz\,\nMonika Skruszewicz – skrzypce\,\nMarek Bugajski – altówka\,\nWeronika Skrodzka – wiolonczela\,\nJoanna Maklakiewicz – fortepian.\n\nWykonany zostanie monumentalny Kwintet Fortepianowy Juliusza Zarębskiego i będzie to duże wydarzenie. Wspaniała muzyka\, duży skład wykonawców - brzmienie prawie jak koncert orkiestry smyczkowej lub koncert fortepianowy z orkiestrą.
URL:http://teatr.grudziadz.pl/wydarzenie/inauguracja-ii-festiwalu-letniego-im-piotra-janowskiego/
CATEGORIES:Koncert,Plenery
ATTACH;FMTTYPE=image/jpeg:http://teatr.grudziadz.pl/wp-content/uploads/2018/05/II_Festiwal_Letni-Piotra-Janowskiego-2-e1528352898241.jpg
ORGANIZER;CN="CK%20Teatr%20w%20Grudzi%C4%85dzu":MAILTO:oliwia@teatr.grudziadz.pl
END:VEVENT
END:VCALENDAR