BEGIN:VCALENDAR
VERSION:2.0
PRODID:-//Centrum Kultury Teatr w Grudziądzu - ECPv4.0.5//NONSGML v1.0//EN
CALSCALE:GREGORIAN
METHOD:PUBLISH
X-WR-CALNAME:Centrum Kultury Teatr w Grudziądzu
X-ORIGINAL-URL:http://teatr.grudziadz.pl
X-WR-CALDESC:Events for Centrum Kultury Teatr w Grudziądzu
BEGIN:VEVENT
DTSTART;TZID="Europe/Warsaw":20180614T180000
DTEND;TZID="Europe/Warsaw":20180614T180000
DTSTAMP:20260421T114308
CREATED:20171026T104824
LAST-MODIFIED:20180621T071720
UID:9865-1528999200-1528999200@teatr.grudziadz.pl
SUMMARY:Grudziądz Foto – rozstrzygnięcie konkursu
DESCRIPTION:XXI edycja konkursu Grudziądz Foto 2018  – rozstrzygnięta. W tym roku swoje prace zgłosiło 30-u uczestników\, 12-u autorów to debiutanci. W sumie do konkursu napłynęło 257 prac\, w tym 60 fotografii wykonanych telefonem komórkowym.  Wszystkie nadesłane prace zostały zakwalifikowane do konkursu\, a jurorzy spośród nadesłanych zdjęć wybrali najlepsze\, nagradzając autorów w następujących kategoriach:\n\nGrand Prix – Mariusz Nasieniewski\,\n\n\tfotografia reportażowa – Arkadiusz Kikulski\,\n\n\n\tfotografia artystyczna – Bartosz Błędowski\,\n\n\n\tnajlepszy debiut – Wojciech Trojanowski\,\n\n\n\tfotografia wykonana telefonem komórkowym – Kamilla Okleja\,\n\nWyróżnienia:\n\nWyróżnienie specjalne:\n\nDiana Skomra\,\n\nGrzegorz Piotrowski. \n\nw kat. fotografia artystyczna:\nMieczysław Wilewski\,\n\nMaria Domżalska. \n\nw kat. fotografia reportażowa:\nZuzanna Zamyślewska\,\n\nJakub Czyż. \nw kat. najlepszy debiut:\n\nDominika Iwicka\, \n\nAgnieszka Górska. \nw kat. fotografia wykonana telefonem komórkowym:\n\nZuzanna Czyżo\, \n\nJury obradowało w składzie: Małgorzata Sadowska-Rodziewicz (Naczelnik Wydziału Kultury\, Sportu i Promocji)\, Piotr Litwic (fotografik\, fotosista na planach filmowych)\, Piotr Sawistowski (fotografik\, Magazyn Qltura)\, Maciej Kastner (fotografik\, członek ZPAF)\, Piotr Bilski (fotoreporter Gazety Pomorskiej)\, Sławomir Krajewski (laureat Grand Prix 2014).\n\nKonkurs Grudziądz Foto 2018 organizowany jest już po raz XXI. W tym roku swoje prace zgłosiło 30-u uczestników\, 12-u autorów to debiutanci. W sumie do konkursu napłynęło 257 prac\, w tym 60 fotografii wykonanych telefonem komórkowym.\n\nWszystkie nadesłane prace zostały zakwalifikowane do konkursu\, a jurorzy spośród nadesłanych zdjęć wybrali najlepsze nagradzając autorów w następujących kategoriach:\n\n\tfotografia reportażowa\n\tfotografia artystyczna\n\tnajlepszy debiut\n\tfotografia wykonana telefonem komórkowym\n\nPodobnie jak w latach ubiegłych najważniejszym wyróżnieniem jest Grand Prix (1500zł).\n\nPatronat nad konkursem objęli:\n\n* Marszałek Województwa Kujawsko-Pomorskiego Piotr Całbecki\, który ufundował nagrodę rzeczową\,\n\n* oraz Prezydent Grudziądza Robert Malinowski.\n\nGrudziądz Foto jest konkursem z wieloletnią tradycją\, dotyczącym życia miasta i wydarzeń\, które miały miejsce w minionym roku. Mogą w nim uczestniczyć wszyscy fotografujący (profesjonalni i nieprofesjonalni)\, którzy nadeślą prace. Najlepsze zdjęcia\, nagrodzone w tegorocznej edycji\, zobaczyć będzie można podczas wystawy pokonkursowej.\n\nJury obradowało w składzie: Małgorzata Rodziewicz (Naczelnik Wydziału Kultury\, Sportu i Promocji)\, Piotr Litwic (fotografik\, fotosista na planach filmowych)\, Piotr Sawistowski (fotografik\, Magazyn Qltura)\, Maciej Kastner (fotografik\, członek ZPAF)\, Piotr Bilski (fotograf)\, Sławomir Krajewski (fotografik\, laureat Grand Prix 2014).\n\nSzczegółowy regulamin konkursu znajduje się na stronie www.teatr.grudziadz.pl.\n\n\n\n 
URL:http://teatr.grudziadz.pl/wydarzenie/grudziadz-foto-rozstrzygniecie-konkursu/
LOCATION:ul. Wybickiego 38
CATEGORIES:Koncert
ATTACH;FMTTYPE=image/jpeg:http://teatr.grudziadz.pl/wp-content/uploads/2017/10/DO-NETU-GRAFIKA-2-e1520513971780.jpg
ORGANIZER;CN="CK%20Teatr%20w%20Grudzi%C4%85dzu":MAILTO:oliwia@teatr.grudziadz.pl
END:VEVENT
END:VCALENDAR