BEGIN:VCALENDAR
VERSION:2.0
PRODID:-//Centrum Kultury Teatr w Grudziądzu - ECPv4.0.5//NONSGML v1.0//EN
CALSCALE:GREGORIAN
METHOD:PUBLISH
X-WR-CALNAME:Centrum Kultury Teatr w Grudziądzu
X-ORIGINAL-URL:http://teatr.grudziadz.pl
X-WR-CALDESC:Events for Centrum Kultury Teatr w Grudziądzu
BEGIN:VEVENT
DTSTART;TZID="Europe/Warsaw":20180616T180000
DTEND;TZID="Europe/Warsaw":20180616T180000
DTSTAMP:20260420T090511
CREATED:20171026T105142
LAST-MODIFIED:20180523T104920
UID:9866-1529172000-1529172000@teatr.grudziadz.pl
SUMMARY:Dni Grudziądza „Radio ZET - Siła muzyki"
DESCRIPTION:Urząd Miejski w Grudziądzu i Centrum Kultury Teatr organizują wspólnie z Radiem Zet koncert w ramach wakacyjnej trasy znanej stacji radiowej pn. Przebojowe Lato ZET. Podczas koncertu w Grudziądzu wystąpi jedna z największych muzycznych gwiazd - Edyta Górniak  oraz doskonale znana grupa Afromental. Koncert Przebojowe połączony będzie z kampanią promującą Grudziądz na antenie Radio Zet. Koncert będzie zapowiadany w specjalnie przygotowanych spotach i relacjonowany na antenie radia. Z Grudziądza na żywo prezenterzy stacji poprowadzą Listę Przebojów\, będą także wywiady z artystami i krótkie ciekawostki z miasta.\n\n\n\nEDYTA GÓRNIAK do Grudziądza przyjedzie po raz pierwszy. Będzie to także pierwszy koncert gwiazdy w 2018 r.\, który otworzy jej letnią trasę! Artystka wyróżnia się nadzwyczajnym głosem. Nazywana diwą polskiej sceny muzycznej. Talent połączony z urodą od samego początku gwarantował jej wielki sukces. Dziś to jedna z największych gwiazd w historii polskiej sceny muzycznej!  \n\nEdyta Górniak karierę wokalną rozpoczynała w teatrze\, dokładnie w popularnym w latach 90. musicalu „Metro”. W 1994 roku Edyta Górniak reprezentowała Polskę na 39. Festiwalu Piosenki Eurowizji\, który odbył się w Dublinie. Piosenkarka zachwyciła wszystkich piosenką "To nie ja"\, dzięki której zajęła drugą lokatę (najwyższą w historii polskich występów na Eurowizji). Rok później do sprzedaży trafił pierwszy album studyjny Edyty Górniak - "Dotyk". Płyta uzyskała status multiplatynowej i sprzedała się prawie w milionowym nakładzie! Dziś jej teledyski łącznie mają ponad 60 mln wyświetleń na You Tube. Pierwszy międzynarodowy anglojęzyczny album Edyty Górniak ukazał się w listopadzie 1997 roku. Album został zatytułowany po prostu „Edyta Górniak”. Podczas jego nagrywania Edyta współpracowała z kompozytorami\, muzykami i producentami odpowiedzialnymi za sukcesy największych gwiazd\, jak np. z Hugh Burnsem (gitarzystą George’a Michaela) czy Christopherem Neilem – producentem Céline Dion. Płyta ta największe triumfy wiodła m.in. w Skandynawii\, Portugalii\, a także w krajach azjatyckich. W Portugalii uzyskała status Srebrnej Płyty\, w Norwegii po niespełna dwóch miesiącach sprzedaży status Złotej Płyty\, a w Polsce stała się Platynową Płytą już po miesiącu sprzedaży. W grudniu 1997 roku ukazał się singiel z piosenką „Hope for Us”\, którą Edyta zaśpiewała w duecie ze światowej sławy tenorem José Carrerasem.\n\nEdyta Górniak wydała dotąd osiem albumów studyjnych\, ostatni\, "My"\, pochodzi z 2012 roku. Później było jeszcze kilka singli\, "Your High"\, "Glow On"\, "Oczyszczenie" i "Grateful".\n\nPrzez wszystkie lata swojej artystycznej pracy Edyta Górniak dowiodła\, że jest perfekcjonistką w każdym calu. Płyty nagrywa rzadko\, dbając o każdy szczegół daje wyraz ogromnego szacunku wobec swojej publiczności obdarowując ją muzyką i tekstami najwyższej klasy!\n\n\n\n \n\nAfromental to zespół pełnych energii i bardzo uzdolnionych facetów. Każdy z nich to wyrazista i nietuzinkowa postać. Zarówno prywatnie\, jak i na scenie stanowią bardzo zgraną grupę. Grupę\, jakiej jeszcze w Polsce nie było! Muzyka\, którą tworzą to wypadkowa inspiracji wszystkich członków zespołu\, stylistycznie to mieszanka głównie rocka i hip-hopu.\n\nZespół w swojej 12 –letniej działalności wydał 4 studyjne albumy:\n\n„The Breakthru” (2007)\n\n„Playing with pop” (2009)\n\n„The B.O.M.B.” (2011)\n\n"Mental House" (2014)\n\n \n\nAfromental posiada na swoim koncie występy na najważniejszych scenach i festiwalach w Polsce\, liczne nagrody m.in. MTV European Music Award\, VIVA Comet\, Eska Music Award\, Superjedynkę.\n\nW Grudziądzu wystąpią z materiałem koncertowym promującym ostatni album “Mental House"\, którym podkreśla swój niezależny charakter i niepowtarzalny styl muzyczny. Będziemy mogli zapewne usłyszeć charakterystyczny i towarzyszący temu bandowi od lat groove i flow z pogranicza hip-hopu i soulu połączony z ciężkimi gitarowymi brzmieniami.\n\n \n\n \n\nAfromental to:\n\nTomson (Tomasz Lach – wokal)\,\n\nŚniady (Bartosz Śniadecki - instr. klawiszowe)\,\n\nBaron (Aleksander Milwiw-Baron – gitara)\,\n\nLajan (Wojciech Witczak – bas)\,\n\nTorres (Tomasz Torres - perkusja)\,\nsupport: Reggaeside oraz wokaliści Studia Piosenki Zbigniewa Poliszczuka\nReggaeside to ośmioosobowy zespół poruszający się głównie w klimatach reggae\, rock\, ska\, funk. Brali udział 9 edycji programu Must be the music\, gdzie doszli do finału\, a także w Telewizji Polskiej w programie O ! Polskie Przeboje.\nSkład zespołu:\nKarol Olszewski - wokal\nPrzemysław Olszewski - instrumenty klawiszowe\, wokal\nMateusz Deredas - gitara basowa\, wokal\nRemek Kreński - perkusja\nJacek Kopowski - gitara elektryczna\nMaciej Gburczyk - gitara elektryczna (człowiek z Grudziądza)\nKrzysztof Kasprowicz - saksofon\nMikołaj Zieliński - puzon\n\n 
URL:http://teatr.grudziadz.pl/wydarzenie/dni-grudziadza-koncert/
CATEGORIES:Koncert
ORGANIZER;CN="CK%20Teatr%20w%20Grudzi%C4%85dzu":MAILTO:oliwia@teatr.grudziadz.pl
END:VEVENT
END:VCALENDAR