BEGIN:VCALENDAR
VERSION:2.0
PRODID:-//Centrum Kultury Teatr w Grudziądzu - ECPv4.0.5//NONSGML v1.0//EN
CALSCALE:GREGORIAN
METHOD:PUBLISH
X-WR-CALNAME:Centrum Kultury Teatr w Grudziądzu
X-ORIGINAL-URL:http://teatr.grudziadz.pl
X-WR-CALDESC:Events for Centrum Kultury Teatr w Grudziądzu
BEGIN:VEVENT
DTSTART;TZID="Europe/Warsaw":20180817T190000
DTEND;TZID="Europe/Warsaw":20180817T190000
DTSTAMP:20260421T090651
CREATED:20180730T080621
LAST-MODIFIED:20180730T082545
UID:12526-1534532400-1534532400@teatr.grudziadz.pl
SUMMARY:Komediowa Hekatomba Grudziądza: Nagrywka Adama Bendlera
DESCRIPTION:W specjalnej edycji Hekatomby Grudziądza gościmy wspaniałego człowieka - Adam Van Bendler - absolutnie topowego komika\, który tegorocznym programem "Strach na wróble" zniszczył wszystkie sceny w Polsce. Wybrał Grudziądz jako jedno z najważniejszych miast (to nie żart) na mapie polskiego Stand-upu aby nagrać ten special i oddać go w ręce ludu. Cena za bilet jest bandycko niska\, byście mogli przybyć tłumnie\, obejrzeć zabójczo śmieszne show i stać się częścią historii. Chcemy aby wasz Grudziądzki śmiech rozbrzmiewał na srebrnym ekranie po wsze czasy. Dnia 17 sierpnia tworzymy razem historię skąpaną we łzach. Łzach śmiechu naturalnie. Do zobaczenia!\n\nImprezę\, jak zawsze\, poprowadzi Tomasz Kwiatkowski\nBilety dostępne w Akcencie!\nPrzewidujemy open mic : )\nKasa czynna od 1 sierpnia od poniedziałku do piątku w godz. 12.oo-16.oo\nw dniu imprezy 8.oo-16.oo oraz na dwie godziny przed Imprezą.
URL:http://teatr.grudziadz.pl/wydarzenie/komediowa-hekatomba-grudziadza-nagrywka-adama-bendlera/
LOCATION:ul. Wybickiego 38
CATEGORIES:Koncert,Lato na Starym Mieście,Plenery
ATTACH;FMTTYPE=image/jpeg:http://teatr.grudziadz.pl/wp-content/uploads/2018/07/36562308_2154856078078832_1495912146846875648_n.jpg
ORGANIZER;CN="CK%20Teatr%20w%20Grudzi%C4%85dzu":MAILTO:oliwia@teatr.grudziadz.pl
END:VEVENT
END:VCALENDAR