BEGIN:VCALENDAR
VERSION:2.0
PRODID:-//Centrum Kultury Teatr w Grudziądzu - ECPv4.0.5//NONSGML v1.0//EN
CALSCALE:GREGORIAN
METHOD:PUBLISH
X-WR-CALNAME:Centrum Kultury Teatr w Grudziądzu
X-ORIGINAL-URL:http://teatr.grudziadz.pl
X-WR-CALDESC:Events for Centrum Kultury Teatr w Grudziądzu
BEGIN:VEVENT
DTSTART;TZID="Europe/Warsaw":20230415T100000
DTEND;TZID="Europe/Warsaw":20230415T150000
DTSTAMP:20260419T130645
CREATED:20230307T083825
LAST-MODIFIED:20230405T062309
UID:38707-1681552800-1681570800@teatr.grudziadz.pl
SUMMARY:Motoserce - ogólnopolska akcja krwiodawstwa
DESCRIPTION:
URL:http://teatr.grudziadz.pl/wydarzenie/motoserce/
LOCATION:ul. Teatralna 1\, Grudziądz
CATEGORIES:Spotkania
ATTACH;FMTTYPE=image/jpeg:http://teatr.grudziadz.pl/wp-content/uploads/2023/03/336673492_2618261814995445_7090370650590009039_n.jpg
ORGANIZER;CN="CK%20Teatr%20w%20Grudzi%C4%85dzu":MAILTO:oliwia@teatr.grudziadz.pl
END:VEVENT
BEGIN:VEVENT
DTSTART;TZID="Europe/Warsaw":20230415T180000
DTEND;TZID="Europe/Warsaw":20230415T180000
DTSTAMP:20260419T130645
CREATED:20230216T152856
LAST-MODIFIED:20230316T085417
UID:38061-1681581600-1681581600@teatr.grudziadz.pl
SUMMARY:GWT: "Znachor" reż. Jakub Roszkowski\, Teatr im. J. Słowackiego w Krakowie
DESCRIPTION:Profesor Rafał Wilczur\, sławny warszawski chirurg\, czy wioskowy znachor Antoni Kosiba? Kolorowa Warszawa z okresu 20-lecia międzywojennego\, czy biedna\, kresowa wieś? Dwa światy. I dwie – wydawać by się mogło – zupełnie różne osoby. Ten lepszy. I ten gorszy. Tylko który jest który? Trzeba wybierać? Wolałbym nie…\n\nZnachor to wzorcowy polski melodramat. Najpierw czytany\, potem oglądany do dziś na ekranie w filmowych adaptacjach. Kazimierz Junosza-Stępowski i Jerzy Bińczycki w roli Wilczura/Kosiby wciągali\, wzruszali i zapadali w pamięć. Pamięć\, którą przecież ich bohater traci. Pamięć\, która może być jego największym kapitałem\, a może też stać się przekleństwem.\n\n\n\nAutor: Tadeusz Dołęga-Mostowicz\nAdaptacja i reżyseria: Jakub Roszkowski\nScenografia\, kostiumy i światła: Mirek Kaczmarek\nMuzyka i opracowanie muzyczne: Antonis Skolias\, Zuzanna Skolias\nPrzygotowanie wokalne: Zuzanna Skolias\nChoreografia: Weronika Pelczyńska\, Monika Szpunar\nKierownictwo muzyczne: Antonis Skolias\n\nMuzyka na żywo (I skład):\nTrąbka: Piotr Nowak\nKontrabas: Szymon Frankowski\, Michał Kołodziej\nPerkusja: Antonis Skolias\n\nMuzyka na żywo (II skład):\nTrąbka: Dominik Cichy\nKontrabas: Tomasz Kupiec\, Józef Michalik\nPerkusja: Józef Rusinowski\n\nAsystent scenografa: Grzegorz Więckowski\nKonsultacje medyczne: Marcin Leśniewski\nPomoc w tłumaczeniu symultanicznym: Denia Kudiyenko\nInspicjent: Marcin Stalmach\nProducentka: Oliwia Kuc\n\n[gallery columns="4" ids="38081\,38077\,38076\,38073\,38071\,38070\,38067\,38066"]\n\n\nOBSADA:\nMaciej Jackowski - PROFESOR WILCZUR/ANTONI KOSIBA\,\nMarta Konarska - SEKRETARKA/SZKOPKOWA/MECENAS KORCZYŃSKA\,\nKatarzyna Zawiślak-Dolny - SANITARIUSZKA/SZANSONISTKA/MARYSIA (dublura)\,\nAlina Szczegielniak - SANITARIUSZKA/SZANSONISTKA/MARYSIA (dublura)\,\nAnna Tomaszewska - GOSPODYNI/PROKOPOWA/SĘDZINA (dublura)\,\nLidia Bogaczówna - GOSPODYNI/PROKOPOWA/SĘDZINA (dublura)\,\nMateusz Bieryt - DRAB1/LESZEK (dublura)\,\nAdam Wietrzyński - DRAB1/LESZEK (dublura)\,\nDominik Stroka - DRAB2/ZENEK/PROKURATOR ZGIERSKI (dublura)\,\nMateusz Janicki - DRAB2/ZENEK/PROKURATOR ZGIERSKI (dublura)\,\nTomasz Augustynowicz - DOKTOR SKÓRZEŃ/ DOKTOR PAWLICKI\,\nWojciech Skibiński - PROFESOR DOBRANIECKI/HRABIA\,\nHanna Syrbu - POKOJÓWKA/ANNA.\n\n\n\n\nBILETY DOSTĘPNE W KASIE TEATRU ORAZ ONLINE:\n[button link="https://teatrgrudziadz.bilety24.pl/wydarzenie/?id=86017" type="big"] Bilety24.pl[/button]\n[button link="http://teatr.grudziadz.pl/grudziadzka-wiosna-teatralna-2023/" type="big"] Wszystkie spektakle GWT 2023[/button]\n 
URL:http://teatr.grudziadz.pl/wydarzenie/gwt-znachor/
LOCATION:Teatralna\, 1\, Grudziądz\, 86-300\, Polska
CATEGORIES:Grudziądzka Wiosna Teatralna,Spektakle
ATTACH;FMTTYPE=image/jpeg:http://teatr.grudziadz.pl/wp-content/uploads/2023/02/ZNACHOR_plakat.jpg
ORGANIZER;CN="CK%20Teatr%20w%20Grudzi%C4%85dzu":MAILTO:oliwia@teatr.grudziadz.pl
END:VEVENT
END:VCALENDAR