BEGIN:VCALENDAR
VERSION:2.0
PRODID:-//Centrum Kultury Teatr w Grudziądzu - ECPv4.0.5//NONSGML v1.0//EN
CALSCALE:GREGORIAN
METHOD:PUBLISH
X-WR-CALNAME:Centrum Kultury Teatr w Grudziądzu
X-ORIGINAL-URL:http://teatr.grudziadz.pl
X-WR-CALDESC:Events for Centrum Kultury Teatr w Grudziądzu
BEGIN:VEVENT
DTSTART;TZID="Europe/Warsaw":20230708T190000
DTEND;TZID="Europe/Warsaw":20230708T190000
DTSTAMP:20260419T160742
CREATED:20221103T133615
LAST-MODIFIED:20230704T084413
UID:34524-1688842800-1688842800@teatr.grudziadz.pl
SUMMARY:LnSM: Tourklezz - koncert muzyki klezmerskiej
DESCRIPTION:Zespół TOURKLEZZ istnieje od marca 2009 w Płocku. W pierwszym składzie trio grali: Piotr Buchalski na klarnecie\, Sebastian Tolka na akordeonie i Tomasz Krawczyk na kontrabasie. Skład wiele razy się zmieniał i ewoluował. Pojawili się nowi muzycy: Marek Chojnacki - skrzypce\, Marcin Kalinowski – akordeon.\nZespół występował wielokrotnie w restauracji „ESTERA” w Płocku oraz koncertował z wielkim powodzeniem na płockiej starówce. W maju 2010 roku brał udział w festiwalu „Otwarta Twarda”\, który odbył się w Warszawie\, a 5 września na wielkiej warszawskiej imprezie Ząbkowska KulMIXTura! Wystąpili także przy ul. Szerokiej 46 w Toruniu w czasie odsłonięcia tablicy pamięci Zwi Hirscha Kalischera\, mieszkającego w Toruniu w XIX wieku\, słynnego rabina\, prekursora syjonizmu. Uroczystość była jednym z głównych wydarzeń odbywającego się w Toruniu w 2011 r. Światowego Kongresu Języka Hebrajskiego. W 2013r. trio uświetniło swoim występem spektakl światło i dźwięk przy fontannie Cosmopolis w Toruniu.\nZespół kilkukrotnie występował w ramach obchodów Dni Kultury Żydowskiej\, organizowanych przez Muzeum Mazowieckie w Płocku. W 2019 roku zespół wystąpił na obchodach setnej rocznicy Płockiego Archiwum. W maju 2022 dał koncert w Muzeum Mazowieckim podczas Nocy Muzeów.\nSkład zespołu:\nMarcin Kalinowski – akordeon\,\nPiotr Buchalski – klarnet\,\nMichał Bartosiak – gitara\,\nRadosław Dzięgielewski – skrzypce\,\nTomasz Krawczyk – kontrabas\,\nJakub Krawczyk – perkusja.\n \n\n\n\nW razie niepogody koncert odbędzie się w Klubie Akcent\n[button link="http://teatr.grudziadz.pl/lato-na-starym-miescie-2023/" type="big"] Wszystkie wydarzenia w ramach festiwalu[/button]
URL:http://teatr.grudziadz.pl/wydarzenie/lato-na-starym-miescie-4/
CATEGORIES:Lato na Starym Mieście
ATTACH;FMTTYPE=image/jpeg:http://teatr.grudziadz.pl/wp-content/uploads/2022/11/tourklezz.jpg
ORGANIZER;CN="CK%20Teatr%20w%20Grudzi%C4%85dzu":MAILTO:oliwia@teatr.grudziadz.pl
END:VEVENT
END:VCALENDAR