BEGIN:VCALENDAR
VERSION:2.0
PRODID:-//Centrum Kultury Teatr w Grudziądzu - ECPv4.0.5//NONSGML v1.0//EN
CALSCALE:GREGORIAN
METHOD:PUBLISH
X-WR-CALNAME:Centrum Kultury Teatr w Grudziądzu
X-ORIGINAL-URL:http://teatr.grudziadz.pl
X-WR-CALDESC:Events for Centrum Kultury Teatr w Grudziądzu
BEGIN:VEVENT
DTSTART;TZID="Europe/Warsaw":20230713T180000
DTEND;TZID="Europe/Warsaw":20230713T180000
DTSTAMP:20260419T230437
CREATED:20230516T134033
LAST-MODIFIED:20230629T124245
UID:40109-1689271200-1689271200@teatr.grudziadz.pl
SUMMARY:LnSM: Otwarcie wystawy prac Grudziądzkich Artystów
DESCRIPTION:Wystawa grudziądzkich artystów to propozycja cykliczna. Co roku w okresie wakacji zapraszamy mieszkańców miasta i turystów do odwiedzenia galerii\, gdzie swoje prace prezentują lokalni twórcy. Ekspozycja nie została ograniczona jednym wspólnym tematem\, ani też rodzajem prezentowanych prac. Zatem różnorodność\, którą proponujemy jest godna Państwa uwagi. Mamy nadzieję\, że tegoroczna propozycja cieszyć się będzie zainteresowaniem zarówno mieszkańców\, jak i turystów odwiedzających nasze miasto. Wystawa jest jednym z nieodłącznych elementów festiwalu „Lato na starym Mieście”. Idea\, która przyświeca nam przy jej tworzeniu\, co roku jest taka sama\, a jest nią promocja twórczości grudziądzkich artystów.\nELIZA CZERWIŃSKA\n\n\n\n\nGRAŻYNA GORALSKA\n\n\n\n\nJUSTYNA GROSS\n\n\n\n\nANNA BATOR\n\n\n\n\nARKADIUSZ KIKULSKI - FOTOGRAFIA\n\n\n\n\nKRZYSZTOF KUŚMIREK - MALARSTWO\n\n\n\n\nMACIEJ JÓZEFOWICZ - GRAFIKA\n\n\n\n\nMAGDALENA KLIMKIEWICZ\n\n\n\n\nNATALIA TABIT\n\n\n\n\nHELENA RYDELLEK - OBRAZ OLEJNY\n\n\n\n\nMONIKA MAZUR - FOTOGRAFIA\n\n\n\n\n\nMAJA WOLF\n\n\n\n\nMARLENA GRZESIAK\n\n\n\n\nJOLANTA LETTKE\n\n\n\n\nKUBA STAJSZCZAK - FOTOGRAFIA\n\n\n\n\nPIOTR KAMIŃSKI - RYSUNEK\n\n\n\n\nMICHAŁ HAWEŁKO - MALARSTWO\n\n\n 
URL:http://teatr.grudziadz.pl/wydarzenie/otwarcie-wystawy-prac-grudziadzkich-artystow/
LOCATION:ul. Wybickiego 38
CATEGORIES:Wystawy
ATTACH;FMTTYPE=image/png:http://teatr.grudziadz.pl/wp-content/uploads/2023/05/Projekt-bez-nazwy.png
ORGANIZER;CN="CK%20Teatr%20w%20Grudzi%C4%85dzu":MAILTO:oliwia@teatr.grudziadz.pl
END:VEVENT
END:VCALENDAR