BEGIN:VCALENDAR
VERSION:2.0
PRODID:-//Centrum Kultury Teatr w Grudziądzu - ECPv4.0.5//NONSGML v1.0//EN
CALSCALE:GREGORIAN
METHOD:PUBLISH
X-WR-CALNAME:Centrum Kultury Teatr w Grudziądzu
X-ORIGINAL-URL:http://teatr.grudziadz.pl
X-WR-CALDESC:Events for Centrum Kultury Teatr w Grudziądzu
BEGIN:VEVENT
DTSTART;TZID="Europe/Warsaw":20230715T190000
DTEND;TZID="Europe/Warsaw":20230715T190000
DTSTAMP:20260420T014441
CREATED:20221103T133704
LAST-MODIFIED:20230629T112110
UID:34525-1689447600-1689447600@teatr.grudziadz.pl
SUMMARY:LnSM: Happy Play Dixieland
DESCRIPTION:Podczas letnich koncertów w mieście\, nie zabraknie też tak lubianego przez naszą publiczność\, brzmienia dixilandowego. Jest to ten rodzaj propozycji muzycznej\, która potrafi przyciągnąć publiczność w różnym wieku. A szczególnie wszystkich tych\, którzy muzykę jazzową kochają w każdym odcieniu i brzmieniu.\n\nW tym roku nowoorleańską nutę\, w samym sercu miasta „zapodawać będzie” Happy Play Dixieland. Zespół ma za sobą całkiem ciekawą historię muzycznego istnienia\, a w przyszłym roku świętować będą 18.tkę. Do tej pory wielokrotnie koncertowali na różnych imprezach i festiwalach w Polsce\, od tego roku do zespołu dołączyło trzech nowych melodyków.\n\nZagrają w składzie:\nWojciech Milewski – trąbka\,\nLech Szprot – klarnet i wokal\,\nJerzy Tkaczyk – puzon\,\nAndrzej "Snajper" Jastrzębski - suzafon\,\nStanisław Pietrzyk – perkusja\,\nRobert Barczyński – banjo.\n\nPodczas koncertu zabrzmią nieśmiertelne standardy jazzowe\, dixielandowe oraz najpopularniejsze kompozycje muzyki pop.\n\nDixieland to styl w muzyce jazzowej\, określany czasem jako Hot jazz\, Early jazz (wczesny jazz)\, styl nowoorleański. Powstał w Nowym Orleanie na początku XX w.\, skąd został przeniesiony do Chicago i Nowego Jorku przez zespoły nowoorleańskie w drugiej dekadzie XX w.\n\n\nW przypadku niepogody\, koncert odbędzie się w Klubie Akcent\n[button link="http://teatr.grudziadz.pl/lato-na-starym-miescie-2023/" type="big"] Wszystkie wydarzenia w ramach festiwalu[/button]\n 
URL:http://teatr.grudziadz.pl/wydarzenie/lato-na-starym-miescie-5/
CATEGORIES:Lato na Starym Mieście
ATTACH;FMTTYPE=image/jpeg:http://teatr.grudziadz.pl/wp-content/uploads/2022/11/HAPPY-PLAY-DIXIELAND-BAND1.jpg
ORGANIZER;CN="CK%20Teatr%20w%20Grudzi%C4%85dzu":MAILTO:oliwia@teatr.grudziadz.pl
END:VEVENT
END:VCALENDAR