BEGIN:VCALENDAR
VERSION:2.0
PRODID:-//Centrum Kultury Teatr w Grudziądzu - ECPv4.0.5//NONSGML v1.0//EN
CALSCALE:GREGORIAN
METHOD:PUBLISH
X-WR-CALNAME:Centrum Kultury Teatr w Grudziądzu
X-ORIGINAL-URL:http://teatr.grudziadz.pl
X-WR-CALDESC:Events for Centrum Kultury Teatr w Grudziądzu
BEGIN:VEVENT
DTSTART;TZID="Europe/Warsaw":20230719T100000
DTEND;TZID="Europe/Warsaw":20230719T120000
DTSTAMP:20260420T074304
CREATED:20230606T115414
LAST-MODIFIED:20230607T111309
UID:40735-1689760800-1689768000@teatr.grudziadz.pl
SUMMARY:LnSM: Warsztaty tworzenia pacynek paluszkowych
DESCRIPTION:Pani Renia zaprasza na wspólne szycie wakacyjnych pacynek paluszkowych. Jeśli nie jest Ci obca zabawa z igłą i nitką\, to podejmij wyzwanie\, przyjdź na warsztaty i zrób samodzielnie swoją własną pacynkę paluszkową. A jeśli czasu nam wystarczy (bo jednak szycie to nie jest takie pstryknięcie palcami)\, to także sobie poanimujemy\, czyli teatralnie ożywimy nasze małe rękodzieła. Kto chętny? Palec pod budkę\, bo ilość miejsc ograniczona zapisami!\n\nZapraszamy dzieci i młodzież w wieku 6-15 lat.\n\nZajęcia poprowadzi Renata Boguska\, opiekun Teatrzyku Lalek „Miszmasz”.\nZapisy pod numerem telefonu 56 69 68 921.\n\n[gallery ids="40899\,40898\,40897"]
URL:http://teatr.grudziadz.pl/wydarzenie/lnsm-warsztaty-tworzenia-pacynek-paluszkowych-3/
LOCATION:Teatralna\, 1\, Grudziądz\, 86-300\, Polska
CATEGORIES:Lato na Starym Mieście,Warsztaty
ATTACH;FMTTYPE=image/jpeg:http://teatr.grudziadz.pl/wp-content/uploads/2023/06/4paluszkowe-trio.jpg
ORGANIZER;CN="CK%20Teatr%20w%20Grudzi%C4%85dzu":MAILTO:oliwia@teatr.grudziadz.pl
END:VEVENT
END:VCALENDAR