BEGIN:VCALENDAR
VERSION:2.0
PRODID:-//Centrum Kultury Teatr w Grudziądzu - ECPv4.0.5//NONSGML v1.0//EN
CALSCALE:GREGORIAN
METHOD:PUBLISH
X-WR-CALNAME:Centrum Kultury Teatr w Grudziądzu
X-ORIGINAL-URL:http://teatr.grudziadz.pl
X-WR-CALDESC:Events for Centrum Kultury Teatr w Grudziądzu
BEGIN:VEVENT
DTSTART;TZID="Europe/Warsaw":20230729T190000
DTEND;TZID="Europe/Warsaw":20230729T190000
DTSTAMP:20260420T221538
CREATED:20221103T133820
LAST-MODIFIED:20230622T102623
UID:34527-1690657200-1690657200@teatr.grudziadz.pl
SUMMARY:LnSM: OneOn Show "Operetka\, Miłosny Zawrót Głowy"
DESCRIPTION:„Operetka\, Miłosny Zawrót Głowy" grupy artystycznej OneOn to muzyczne SHOW w rytmie wiedeńskiego walca\, węgierskiego czardasza i przebojowego musicalu. Akcja koncertu ukazuje barwne relacje damsko-męskie. Kochankowie\, skonfliktowani małżonkowie\, łowczynie posagów czy tropiciele damskich wdzięków to tylko nieliczni bohaterowie OneOnowego show. Królować będzie kokieteryjna\, ekscytująca\, liryczna\, a przede wszystkim zabawna operetka - kobieca strona muzyki!\n\nWystąpią:\n* piękne One: Dorota Ritz – sopran\, Anna Pastor – mezzosopran\n* charyzmatyczny On: Paweł Wisnar - tenor\n* oraz wirtuoz klawiatury: Michał Iwaniuk – piano\n\n\n\nUsłyszą Państwo najwspanialsze szlagiery Operetki i Musicalu:\n„Kiedy skrzypki Grają” F. Lehar\n„Kto wiedeńską ma krew” J. Strauss\n„Tak całkiem bez dziewczątek” E. Kalman\n„Cyganie Ty skradłeś serce moje” A. Egen\, F. Grothe\n„Usta milczą dusza śpiewa” F. Lehar\n„Aria ze śmiechem” J. Offenbach\n„Brunetki\, blondynki” R. Stolz\n„Kocham Paryż” C. Porter\n\nI wiele innych…\n\nPiękne kreacje\, porywające melodie\, wirtuozeria\, wspaniałe głosy\, humor\, kabaretowe scenki i dialogi - wszystko to zapewni Państwu niezapomniane widowisko i przyprawi o „Miłosny zawrót głowy”!\n\n[gallery ids="40567\,40566\,40564\,40563\,40559\,40558"]\n\n\nW przypadku niepogody\, koncert odbędzie się w Teatrze\n[button link="http://teatr.grudziadz.pl/lato-na-starym-miescie-2023/" type="big"] Wszystkie wydarzenia w ramach festiwalu[/button]\n 
URL:http://teatr.grudziadz.pl/wydarzenie/lato-na-starym-miescie-7/
LOCATION:Grudziądz
CATEGORIES:Lato na Starym Mieście
ATTACH;FMTTYPE=image/jpeg:http://teatr.grudziadz.pl/wp-content/uploads/2022/11/Operetka-Miłosny-Zawrót-Głowy-OneOn.jpg
ORGANIZER;CN="CK%20Teatr%20w%20Grudzi%C4%85dzu":MAILTO:oliwia@teatr.grudziadz.pl
END:VEVENT
END:VCALENDAR