BEGIN:VCALENDAR
VERSION:2.0
PRODID:-//Centrum Kultury Teatr w Grudziądzu - ECPv4.0.5//NONSGML v1.0//EN
CALSCALE:GREGORIAN
METHOD:PUBLISH
X-WR-CALNAME:Centrum Kultury Teatr w Grudziądzu
X-ORIGINAL-URL:http://teatr.grudziadz.pl
X-WR-CALDESC:Events for Centrum Kultury Teatr w Grudziądzu
BEGIN:VEVENT
DTSTART;TZID="Europe/Warsaw":20230805T190000
DTEND;TZID="Europe/Warsaw":20230805T190000
DTSTAMP:20260421T085752
CREATED:20221103T133853
LAST-MODIFIED:20230622T102604
UID:34528-1691262000-1691262000@teatr.grudziadz.pl
SUMMARY:LnSM: Mundinova - koncert
DESCRIPTION:\nFot. Mirek Emil Koch\nTrzon zespołu MUNDINOVA stanowią Dorota Kołodziej (głos)\, Marzena Cybulka (gitara basowa\, kontrabas) oraz Michał Wilczyński (gitary). Artyści spotkali się w 2017 roku z zamysłem\, by tworzyć własny muzyczny język\, w którym warstwa liryczna jest traktowana na równi ze współbrzmieniem. Zestawienie emocjonalnego głosu z około- jazzowymi harmoniami\, przeplatanymi inspiracjami world\, doprowadziło do eksplozji muzycznych kolorów\, indentyfikowanych jako indie jazz/ muzyka alternatywna. W lipcu 2020 roku zespół zadebiutował albumem „W drodze"\, nakładem wydawnictwa Mundi Art\, z gościnnym udziałem Dariusza Kaliszuka (perkusja\, instrumenty perkusyjne) oraz Mateusza Szemraja (oud\, rubab\, baglama).\n\nW grudniu 2022 roku ukazał się drugi album Mundinova pt. "Fantom" z gościnnym udziałem Szymona Miśniaka\, Michała Żaka (Lautari\, Prusinowski Trio) oraz Marcina Raka (EABS\, Błoto).\n\n\n\n\n\n\n\nFot. Klaudia Bałuniak\n\n\nW przypadku niesprzyjających warunków pogodowych\, koncert odbędzie się w Klubie Akcent\n[button link="http://teatr.grudziadz.pl/lato-na-starym-miescie-2023/" type="big"] Wszystkie wydarzenia w ramach festiwalu[/button]\n 
URL:http://teatr.grudziadz.pl/wydarzenie/lato-na-starym-miescie-8/
CATEGORIES:Koncert,Lato na Starym Mieście
ATTACH;FMTTYPE=image/jpeg:http://teatr.grudziadz.pl/wp-content/uploads/2022/11/20211213_180808.jpg
ORGANIZER;CN="CK%20Teatr%20w%20Grudzi%C4%85dzu":MAILTO:oliwia@teatr.grudziadz.pl
END:VEVENT
END:VCALENDAR