BEGIN:VCALENDAR
VERSION:2.0
PRODID:-//Centrum Kultury Teatr w Grudziądzu - ECPv4.0.5//NONSGML v1.0//EN
CALSCALE:GREGORIAN
METHOD:PUBLISH
X-WR-CALNAME:Centrum Kultury Teatr w Grudziądzu
X-ORIGINAL-URL:http://teatr.grudziadz.pl
X-WR-CALDESC:Events for Centrum Kultury Teatr w Grudziądzu
BEGIN:VEVENT
DTSTART;TZID="Europe/Warsaw":20230808T100000
DTEND;TZID="Europe/Warsaw":20230808T120000
DTSTAMP:20260421T131235
CREATED:20230524T103812
LAST-MODIFIED:20230630T114555
UID:40489-1691488800-1691496000@teatr.grudziadz.pl
SUMMARY:LnSM: "Wakacyjne wędrówki"\, czyli plenerowe warsztaty plastyczne
DESCRIPTION:"Wakacyjne wędrówki” to propozycja warsztatowych zajęć plastycznych dla młodych ludzi\, którzy w ciekawy sposób chcą spędzić kilka wakacyjnych dni. Z ołówkiem w ręku\, w najpiękniejszych zaułkach Grudziądza\, co roku powstają bardzo ciekawe prace. Oferta Centrum Kultury Teatr skierowana jest nie tylko do osób szczególnie uzdolnionych plastycznie. Warsztaty to przede wszystkim czas spędzony w miłej atmosferze\, gdzie nauczyć się można podstaw rysunku\, kadrowania obrazu\, czy też odpowiedniego doboru kolorów.\nZapraszamy dzieci i młodzież w wieku od 7 do 18 lat. Udział w warsztatach jest bezpłatny.\nZAPISY: 56 69 68 906 lub 506 126 470 (SMS)\n\n[gallery ids="40740\,40741\,40742\,40743\,40744\,40745"]
URL:http://teatr.grudziadz.pl/wydarzenie/lnsm-wakacyjne-wedrowki-czyli-plenerowe-warsztaty-plastyczne-2/
LOCATION:Teatralna\, 1\, Grudziądz\, 86-300\, Polska
CATEGORIES:Lato na Starym Mieście,Warsztaty
ATTACH;FMTTYPE=image/png:http://teatr.grudziadz.pl/wp-content/uploads/2023/05/Wakacyjne-Wędrówki-czyli-plenerowe-warsztaty-plastyczne-1.png
ORGANIZER;CN="CK%20Teatr%20w%20Grudzi%C4%85dzu":MAILTO:oliwia@teatr.grudziadz.pl
END:VEVENT
END:VCALENDAR