BEGIN:VCALENDAR
VERSION:2.0
PRODID:-//Centrum Kultury Teatr w Grudziądzu - ECPv4.0.5//NONSGML v1.0//EN
CALSCALE:GREGORIAN
METHOD:PUBLISH
X-WR-CALNAME:Centrum Kultury Teatr w Grudziądzu
X-ORIGINAL-URL:http://teatr.grudziadz.pl
X-WR-CALDESC:Events for Centrum Kultury Teatr w Grudziądzu
BEGIN:VEVENT
DTSTART;TZID="Europe/Warsaw":20240809T203000
DTEND;TZID="Europe/Warsaw":20240809T203000
DTSTAMP:20260419T141607
CREATED:20240719T130952
LAST-MODIFIED:20240809T100544
UID:47072-1723235400-1723235400@teatr.grudziadz.pl
SUMMARY:Leśne Kino z DKF-em | projekcja filmu „Serce dębu”
DESCRIPTION:SEANS PRZENIESIONY DO TEATRU!\n\n\n\n \n\n„Serce Dębu” jest idealną propozycją dla widzów złaknionych relaksu przy\nzarejestrowanych obrazach i dźwiękach natury\, połączonych z refleksją na temat\nniezauważalnych gołym okiem przejawów życia.\n\nFILMOŻERCY\nMarcin Pietrzakowski\n\nOd ponad dwustu dziesięciu lat w środku lasu rośnie majestatyczny dąb\, który daje\nschronienie jego licznym mieszkańcom. Poczujcie\, jak bije „Serce dębu”. Ten widowiskowy\nfilm ma niezwykłą\, godną wszystkich filmowych nagród obsadę: wiewiórki\, ryjkowce\, sójki\,\nmrówki\, myszy polne... Cały ten mały\, tętniący życiem\, brzęczący i cudowny wszechświat\nzależy od owego dostojnego drzewa\, czerpiąc od niego pożywienie i schronienie\, od\nkorzeni aż po gałęzie. Poznajcie wpadających z wizytą przyjaciół\, zbłąkanych wędrowców\,\nczułych kochanków\, złych sąsiadów oraz bezwzględne drapieżniki. Zanurzcie się\nwszystkimi zmysłami w ten cudowny mikrokosmos.\n\n„Serce dębu” to spektakularny i wciągający film\, który prezentując kolejne cztery pory\nroku\, stanowi liryczną odę do życia\, w którym głos zabiera wyłącznie natura.\n\n„Serce Dębu” - dokumentalny\nObsada: wiewiórki\, dziki\, sójki\, sarenki\, chrząszcze\nReżyser: Laurent Charbonnier / Michel Seydoux\nCzas trwania: 80 min\nProdukcja: Francja\nData premiery: 2022-10-07\n\nwww.serce-debu.bestfilm.pl\n\n[gallery columns="2" link="file" size="medium" ids="46632\,46633"]\n\n 
URL:http://teatr.grudziadz.pl/wydarzenie/47072/
LOCATION:Lipowa 39\, Grudziądz\, 86-300
CATEGORIES:DKF
ATTACH;FMTTYPE=image/jpeg:http://teatr.grudziadz.pl/wp-content/uploads/2024/06/serce-dębu6.jpg
END:VEVENT
END:VCALENDAR