BEGIN:VCALENDAR
VERSION:2.0
PRODID:-//Centrum Kultury Teatr w Grudziądzu - ECPv4.0.5//NONSGML v1.0//EN
CALSCALE:GREGORIAN
METHOD:PUBLISH
X-WR-CALNAME:Centrum Kultury Teatr w Grudziądzu
X-ORIGINAL-URL:http://teatr.grudziadz.pl
X-WR-CALDESC:Events for Centrum Kultury Teatr w Grudziądzu
BEGIN:VEVENT
DTSTART;TZID="Europe/Warsaw":19700101T000000
DTEND;TZID="Europe/Warsaw":19700101T000000
DTSTAMP:20260420T034607
CREATED:20250206T200610
LAST-MODIFIED:20250206T200610
UID:50679-0-0@teatr.grudziadz.pl
SUMMARY:50.lecie Zespołu Szkół Budowlanych w Grudziądzu
DESCRIPTION:
URL:http://teatr.grudziadz.pl/wydarzenie/50-lecie-zespolu-szkol-budowlanych-w-grudziadzu/
LOCATION:ul. Teatralna 1\, Grudziądz
END:VEVENT
END:VCALENDAR